BEGIN:VCALENDAR
VERSION:2.0
PRODID:-//UM School of Communication - ECPv6.15.20//NONSGML v1.0//EN
CALSCALE:GREGORIAN
METHOD:PUBLISH
X-WR-CALNAME:UM School of Communication
X-ORIGINAL-URL:https://com.miami.edu
X-WR-CALDESC:Events for UM School of Communication
REFRESH-INTERVAL;VALUE=DURATION:PT1H
X-Robots-Tag:noindex
X-PUBLISHED-TTL:PT1H
BEGIN:VTIMEZONE
TZID:America/New_York
BEGIN:DAYLIGHT
TZOFFSETFROM:-0500
TZOFFSETTO:-0400
TZNAME:EDT
DTSTART:20220313T070000
END:DAYLIGHT
BEGIN:STANDARD
TZOFFSETFROM:-0400
TZOFFSETTO:-0500
TZNAME:EST
DTSTART:20221106T060000
END:STANDARD
BEGIN:DAYLIGHT
TZOFFSETFROM:-0500
TZOFFSETTO:-0400
TZNAME:EDT
DTSTART:20230312T070000
END:DAYLIGHT
BEGIN:STANDARD
TZOFFSETFROM:-0400
TZOFFSETTO:-0500
TZNAME:EST
DTSTART:20231105T060000
END:STANDARD
BEGIN:DAYLIGHT
TZOFFSETFROM:-0500
TZOFFSETTO:-0400
TZNAME:EDT
DTSTART:20240310T070000
END:DAYLIGHT
BEGIN:STANDARD
TZOFFSETFROM:-0400
TZOFFSETTO:-0500
TZNAME:EST
DTSTART:20241103T060000
END:STANDARD
END:VTIMEZONE
BEGIN:VEVENT
DTSTART;TZID=America/New_York:20230218T140000
DTEND;TZID=America/New_York:20230218T163000
DTSTAMP:20260419T190221
CREATED:20230213T184746Z
LAST-MODIFIED:20230213T184746Z
UID:12813-1676728800-1676737800@com.miami.edu
SUMMARY:Watching Movies with Mitch Kaplan: 'Days Of Heaven' (1978)
DESCRIPTION:Join Books & Books founder Mitchell Kaplan and Bill Cosford Cinema manager Rene Rodriguez for a screening and Q&A discussion of Terrence Malick’s Oscar-winning 1978 drama “Days of Heaven.” \nMiami Beach native\, Mitchell Kaplan\, opened the first Books & Books in 1982 in Coral Gables\, Florida. Now with five South Florida locations\, Books & Books hosts over 400 events per year. In addition\, two of the stores are home to well-established cafes and there are Books & Books affiliated stores at the Miami International Airport\, and in Key West\, where he collaborates with the noted author Judy Blume and her husband\, George. \nAmong his honors\, Kaplan served as president of the American Booksellers Association and he received the Literarian Award from the National Book Foundation. Books & Books was also Publishers Weekly’s bookstore of the year. He recently accepted an appointment to serve on the Board of the National Coalition Against Censorship. \nAs co-founder of the Miami Book Fair in 1985\, Kaplan has served as the chairperson of its Board of Directors and continues to guide the programming team at the Fair which takes place on the campus of Miami-Dade College in the heart of downtown Miami. Each year\, the Fair presents close to 500 authors over one week in November\, along with a street festival\, where bookstalls line the streets adjacent to the campus. Programs take place in Creole\, Spanish\, and English\, reflecting the diversity of Miami. \nKaplan\, with his partner Paula Mazur\, established The Mazur Kaplan Company to bring books to the screen\, both film and television. His most recent release is “Let Him Go” starring Diane Lane and Kevin Costner. Kaplan also hosts the podcast “The Literary Life with Mitchell Kaplan\,” broadcast from Miami\, where he lives with his wife\, Rachelle. They have three children\, Anya\, Daniel\, and Jonah. \nDAYS OF HEAVEN | DIRECTED BY: Terrence Malick | USA | 1978 | 1H 34M | RATED PG | STARRING: Richard Gere\, Brooke Adams\, Sam Shepard\, andLinda Manz | 4K digital projection \nOne-of-a-kind filmmaker-philosopher Terrence Malick has created some of the most visually arresting films of the 20th century\, and his glorious period tragedy “Days of Heaven\,” featuring Oscar-winning cinematography by Nestor Almendros\, stands out among them. \nIn 1910\, a Chicago steelworker (Richard Gere) accidentally kills his supervisor\, and he\, his girlfriend (Brooke Adams)\, and his little sister (Linda Manz) flee to the Texas panhandle\, where they find work harvesting wheat in the fields of a stoic farmer (Sam Shepard). \nA love triangle\, a swarm of locusts\, a hellish fire—Malick captures it all with dreamlike authenticity\, creating a timeless American idyll that is also a gritty evocation of turn-of-the-century labor. \nAdmission is FREE\, but registration required at link\, https://events.miami.edu/event/watching_movies_with_mitch_kaplan_days_of_heaven_1978. \n“‘Days of Heaven’ is above all one of the most beautiful films ever made. Malick’s purpose is not to tell a story of melodrama\, but one of loss. His tone is elegiac. He evokes the loneliness and beauty of the limitless Texas prairie. In the first hour of the film there is scarcely a scene set indoors. The farm workers camp under the stars and work in the fields\, and even the farmer is so besotted by the weather that he tinkers with wind instruments on the roof of his Gothic mansion. \n[The movie] has been criticized for its muted emotions: Although passions erupt in a deadly love triangle\, all the feelings are somehow held at arm’s length. This observation is true enough\, if you think only about the actions of the adults in the story. But watching this film again recently\, I was struck more than ever with the conviction that this is the story of a teenage girl\, told by her\, and its subject is the way that hope and cheer have been beaten down in her heart. \nWe do not feel the full passion of the adults because it is not her passion: It is seen at a distance\, as a phenomenon\, like the weather\, or the plague of grasshoppers that signals the beginning of the end.” — Roger Ebert
URL:https://com.miami.edu/event/watching-movies-with-mitch-kaplan-days-of-heaven-1978/
LOCATION:Bill Cosford Cinema\, 5030 Brunson Drive\, Dooly Memorial 225\, Coral Gables\, FL\, 33146\, United States
CATEGORIES:Open to all of UM,Open to the public
ATTACH;FMTTYPE=image/png:https://com.miami.edu/wp-content/uploads/2023/02/WATCHING-MOVIES-WITH-MITCH-KAPLAN.png
ORGANIZER;CN="Rene Rodriguez":MAILTO:renerodriguez@miami.edu
END:VEVENT
END:VCALENDAR