BEGIN:VCALENDAR
VERSION:2.0
PRODID:-//UM School of Communication - ECPv6.15.20//NONSGML v1.0//EN
CALSCALE:GREGORIAN
METHOD:PUBLISH
X-WR-CALNAME:UM School of Communication
X-ORIGINAL-URL:https://com.miami.edu
X-WR-CALDESC:Events for UM School of Communication
REFRESH-INTERVAL;VALUE=DURATION:PT1H
X-Robots-Tag:noindex
X-PUBLISHED-TTL:PT1H
BEGIN:VTIMEZONE
TZID:America/New_York
BEGIN:DAYLIGHT
TZOFFSETFROM:-0500
TZOFFSETTO:-0400
TZNAME:EDT
DTSTART:20230312T070000
END:DAYLIGHT
BEGIN:STANDARD
TZOFFSETFROM:-0400
TZOFFSETTO:-0500
TZNAME:EST
DTSTART:20231105T060000
END:STANDARD
BEGIN:DAYLIGHT
TZOFFSETFROM:-0500
TZOFFSETTO:-0400
TZNAME:EDT
DTSTART:20240310T070000
END:DAYLIGHT
BEGIN:STANDARD
TZOFFSETFROM:-0400
TZOFFSETTO:-0500
TZNAME:EST
DTSTART:20241103T060000
END:STANDARD
BEGIN:DAYLIGHT
TZOFFSETFROM:-0500
TZOFFSETTO:-0400
TZNAME:EDT
DTSTART:20250309T070000
END:DAYLIGHT
BEGIN:STANDARD
TZOFFSETFROM:-0400
TZOFFSETTO:-0500
TZNAME:EST
DTSTART:20251102T060000
END:STANDARD
END:VTIMEZONE
BEGIN:VEVENT
DTSTART;TZID=America/New_York:20240202T180000
DTEND;TZID=America/New_York:20240204T220000
DTSTAMP:20260423T165833
CREATED:20240124T171152Z
LAST-MODIFIED:20240124T171305Z
UID:14843-1706896800-1707084000@com.miami.edu
SUMMARY:Second Annual Shorts Miami International Film Festival
DESCRIPTION:Join us for the Second Annual Shorts Miami International Film Festival where established and emerging filmmakers showcase their work over three nights at the Bill Cosford Cinema. \nThis year\, festival organizers received 650 entries from 62 countries and territories. Of the 650 entries\, 21 were selected as finalists\, showcasing filmmakers from the United States\, Japan\, the Virgin Islands\, Turkey\, Israel\, Brazil\, Portugal\, Indonesia\, and Australia. \nFeb. 2 registration: https://events.miami.edu/event/shorts_miami_international_film_festival_2024#. \nFeb. 3 registration: https://events.miami.edu/event/shorts_miami_international_film_festival_2024_8394. \nFeb. 4 registration: https://events.miami.edu/event/shorts_miami_international_film_festival_2024_2419.
URL:https://com.miami.edu/event/second-annual-shorts-miami-international-film-festival/
LOCATION:Bill Cosford Cinema\, 5030 Brunson Drive\, Dooly Memorial 225\, Coral Gables\, FL\, 33146\, United States
CATEGORIES:Open to all of UM,Open to the public
ATTACH;FMTTYPE=image/jpeg:https://com.miami.edu/wp-content/uploads/2024/01/shorts_miami.jpg
ORGANIZER;CN="University of Miami School of Communication":MAILTO:communication@miami.edu
END:VEVENT
BEGIN:VEVENT
DTSTART;TZID=America/New_York:20240212T193000
DTEND;TZID=America/New_York:20240212T210000
DTSTAMP:20260423T165833
CREATED:20240123T181808Z
LAST-MODIFIED:20240123T181933Z
UID:14830-1707766200-1707771600@com.miami.edu
SUMMARY:Inaugural United Black Students and UTrailblazers Canes Black History Film Festival
DESCRIPTION:The inaugural United Black Students and UTrailblazers Canes Black History Film Festival is focused on short films that reflect on the University of Miami’s rich Black History. The goal of the festival is to enhance and highlight the UTrailblazers Experience at the Johnny C. Taylor\, Jr.\, Breezeway at the Cosford Cinema\, which honors the pioneers who paved the way for generations of Black students at the University of Miami. \nDuring the festival\, submissions from University of Miami undergraduate and graduate students in two categories\, The UTrailblazer Experience and Inspired by the UTrailblazers Experience\, are set to screen. \nJoin us for this enlightening event where student filmmakers will showcase their work.
URL:https://com.miami.edu/event/canes-black-history-film-festival/
LOCATION:Bill Cosford Cinema\, 5030 Brunson Drive\, Dooly Memorial 225\, Coral Gables\, FL\, 33146\, United States
CATEGORIES:Open to all of UM,Open to the public
ATTACH;FMTTYPE=image/jpeg:https://com.miami.edu/wp-content/uploads/2024/01/CanesBlackHistoryFilmFestival-Screening-FINAL-web.jpg
ORGANIZER;CN="Alfred L. Martin":MAILTO:almartin@miami.edu
END:VEVENT
BEGIN:VEVENT
DTSTART;TZID=America/New_York:20240219T183000
DTEND;TZID=America/New_York:20240219T194500
DTSTAMP:20260423T165833
CREATED:20240214T191037Z
LAST-MODIFIED:20240214T191037Z
UID:14954-1708367400-1708371900@com.miami.edu
SUMMARY:Freeing the Press in Guatemala
DESCRIPTION:Organizers: Reporters Without Borders\, The UM Hanley Democracy Center and the Department of Journalism and Media Management in the School of Communication \nJosé Rubén Zamora is a Guatemalan journalist\, publisher and founder of three newspapers. His work has exposed political corruption for two decades\, but he was arrested and sentenced to six years in prison for a trumped up money laundering charge. Zamora’s imprisonment is emblematic of the outgoing administration’s crackdown on press freedom\, but also an opportunity for a new president to turn over a new leaf. \nThis panel will discuss the state of press freedom in Guatemala and Latin America\, and Zamora’s case in particular. \nParticipants include José’s son José Carlos Zamora\, U.S. Rep. Norma J. Torres\, RSF USA Executive Director Clayton Weimers and UM Professors Sallie Hughes and Gregory Koger. \nDean Karin Wilkins will offer a welcome.
URL:https://com.miami.edu/event/freeing-the-press-in-guatemala/
LOCATION:Bill Cosford Cinema\, 5030 Brunson Drive\, Dooly Memorial 225\, Coral Gables\, FL\, 33146\, United States
CATEGORIES:Alumni,Open to all of UM,Open to the public
ATTACH;FMTTYPE=image/png:https://com.miami.edu/wp-content/uploads/2024/02/The-Cosford-Cinema-University-of-Miami.png
ORGANIZER;CN="Sallie Hughes":MAILTO:shughes@miami.edu
END:VEVENT
BEGIN:VEVENT
DTSTART;TZID=America/New_York:20240221T150000
DTEND;TZID=America/New_York:20240221T160000
DTSTAMP:20260423T165833
CREATED:20240212T172508Z
LAST-MODIFIED:20240220T155235Z
UID:14943-1708527600-1708531200@com.miami.edu
SUMMARY:Resume Workshop
DESCRIPTION:Join us for our dynamic Resume Workshop hosted by the SoC Stein Career Center\, where you’ll gain invaluable insights and tips to craft a standout resume tailored to your communication career goals. Discover how to effectively showcase your skills and experiences to impress potential employers and advance your professional journey.
URL:https://com.miami.edu/event/resume-workshop/
LOCATION:Koenigsberg & Nadal Interactive Media Center\, 5100 Brunson Dr.\, Coral Gables\, FL\, 33146
CATEGORIES:SoC Students
ATTACH;FMTTYPE=image/png:https://com.miami.edu/wp-content/uploads/2024/02/updated-flyer-resume_workshop-2.21.24.png
ORGANIZER;CN="Stein Family Career Office":MAILTO:comcareers@miami.edu
END:VEVENT
BEGIN:VEVENT
DTSTART;TZID=America/New_York:20240226T180000
DTEND;TZID=America/New_York:20240226T210000
DTSTAMP:20260423T165833
CREATED:20240222T153611Z
LAST-MODIFIED:20240223T175723Z
UID:15031-1708970400-1708981200@com.miami.edu
SUMMARY:‘There’s Always Tomorrow’ (1956) Free Screening and Discussion
DESCRIPTION:Marsha Gordon\, author of “BECOMING THE EX-WIFE: The Unconventional Life and Forgotten Writings of Ursula Parrott\,” will be at the Bill Cosford Cinema on Feb. 26 at 6 p.m. for a book signing and screening of the film\, “There’s Always Tomorrow\,” based on a story by Ursula Parrott. \nThe book signing and screening begin at 6 p.m. at the Bill Cosford Cinema\, 5030 Brunson Dr.\, Memorial Building Suite 225\, Coral Gables\, FL 33146. Books & Books will have copies of Gordon’s book available for purchase. This event is presented by the Bill Cosford Cinema and is sponsored by the Norton Herrick Center for Motion Picture Studies and Books & Books. Visit https://cosfordcinema.com/event/theres-always-tomorrow-1956-free-screening-and-discussion/ to register.
URL:https://com.miami.edu/event/theres-always-tomorrow-1956-free-screening-and-discussion/
LOCATION:Bill Cosford Cinema\, 5030 Brunson Drive\, Dooly Memorial 225\, Coral Gables\, FL\, 33146\, United States
CATEGORIES:Open to all of UM,Open to the public
ATTACH;FMTTYPE=image/jpeg:https://com.miami.edu/wp-content/uploads/2024/02/Theres-Always-TOM-FINAL_web.jpg
ORGANIZER;CN="Christina Lane":MAILTO:clane@miami.edu
END:VEVENT
END:VCALENDAR