BEGIN:VCALENDAR
VERSION:2.0
PRODID:-//UM School of Communication - ECPv6.15.20//NONSGML v1.0//EN
CALSCALE:GREGORIAN
METHOD:PUBLISH
X-WR-CALNAME:UM School of Communication
X-ORIGINAL-URL:https://com.miami.edu
X-WR-CALDESC:Events for UM School of Communication
REFRESH-INTERVAL;VALUE=DURATION:PT1H
X-Robots-Tag:noindex
X-PUBLISHED-TTL:PT1H
BEGIN:VTIMEZONE
TZID:America/New_York
BEGIN:DAYLIGHT
TZOFFSETFROM:-0500
TZOFFSETTO:-0400
TZNAME:EDT
DTSTART:20250309T070000
END:DAYLIGHT
BEGIN:STANDARD
TZOFFSETFROM:-0400
TZOFFSETTO:-0500
TZNAME:EST
DTSTART:20251102T060000
END:STANDARD
BEGIN:DAYLIGHT
TZOFFSETFROM:-0500
TZOFFSETTO:-0400
TZNAME:EDT
DTSTART:20260308T070000
END:DAYLIGHT
BEGIN:STANDARD
TZOFFSETFROM:-0400
TZOFFSETTO:-0500
TZNAME:EST
DTSTART:20261101T060000
END:STANDARD
BEGIN:DAYLIGHT
TZOFFSETFROM:-0500
TZOFFSETTO:-0400
TZNAME:EDT
DTSTART:20270314T070000
END:DAYLIGHT
BEGIN:STANDARD
TZOFFSETFROM:-0400
TZOFFSETTO:-0500
TZNAME:EST
DTSTART:20271107T060000
END:STANDARD
END:VTIMEZONE
BEGIN:VEVENT
DTSTART;TZID=America/New_York:20260223T130000
DTEND;TZID=America/New_York:20260223T160000
DTSTAMP:20260422T093318
CREATED:20260128T153426Z
LAST-MODIFIED:20260128T153426Z
UID:23178-1771851600-1771862400@com.miami.edu
SUMMARY:Career Week: Career Kickoff 2026
DESCRIPTION:This event is designed to help you take your career development to the next level. Based on your major\, you’ll receive one-on-one support to strengthen your resume and portfolio\, optimize your LinkedIn profile\, and visit The Advice Spot for personalized advice from faculty and senior students who’ve been in your shoes. \n\n\nReceive personalized feedback at each of the Career Kickoff stations: \n\nResume Review\nPortfolio & Reel Critique\nLinkedIn Optimization\nAdvice Spot
URL:https://com.miami.edu/event/career-week-career-kickoff-2026/
LOCATION:School of Communication Courtyard\, 5100 Brunson Dr.\, Coral Gables\, FL\, 33146\, United States
ATTACH;FMTTYPE=image/jpeg:https://com.miami.edu/wp-content/uploads/2026/01/DSC09398.jpg
ORGANIZER;CN="Stein Family Career Office":MAILTO:comcareers@miami.edu
END:VEVENT
END:VCALENDAR