BEGIN:VCALENDAR
VERSION:2.0
PRODID:-//UM School of Communication - ECPv6.15.20//NONSGML v1.0//EN
CALSCALE:GREGORIAN
METHOD:PUBLISH
X-WR-CALNAME:UM School of Communication
X-ORIGINAL-URL:https://com.miami.edu
X-WR-CALDESC:Events for UM School of Communication
REFRESH-INTERVAL;VALUE=DURATION:PT1H
X-Robots-Tag:noindex
X-PUBLISHED-TTL:PT1H
BEGIN:VTIMEZONE
TZID:America/New_York
BEGIN:DAYLIGHT
TZOFFSETFROM:-0500
TZOFFSETTO:-0400
TZNAME:EDT
DTSTART:20240310T070000
END:DAYLIGHT
BEGIN:STANDARD
TZOFFSETFROM:-0400
TZOFFSETTO:-0500
TZNAME:EST
DTSTART:20241103T060000
END:STANDARD
BEGIN:DAYLIGHT
TZOFFSETFROM:-0500
TZOFFSETTO:-0400
TZNAME:EDT
DTSTART:20250309T070000
END:DAYLIGHT
BEGIN:STANDARD
TZOFFSETFROM:-0400
TZOFFSETTO:-0500
TZNAME:EST
DTSTART:20251102T060000
END:STANDARD
BEGIN:DAYLIGHT
TZOFFSETFROM:-0500
TZOFFSETTO:-0400
TZNAME:EDT
DTSTART:20260308T070000
END:DAYLIGHT
BEGIN:STANDARD
TZOFFSETFROM:-0400
TZOFFSETTO:-0500
TZNAME:EST
DTSTART:20261101T060000
END:STANDARD
END:VTIMEZONE
BEGIN:VEVENT
DTSTART;TZID=America/New_York:20251107T160000
DTEND;TZID=America/New_York:20251107T180000
DTSTAMP:20260424T150444
CREATED:20250930T192128Z
LAST-MODIFIED:20250930T192128Z
UID:22013-1762531200-1762538400@com.miami.edu
SUMMARY:Homecoming Reception | Party Like It's 1985
DESCRIPTION:Celebrate the SoC’s 40th Anniversary and make this Homecoming one to remember! \nPlease join Dean Karin Wilkins for a delightful reception with great company and inspired memories! We will recognize key alumni in honor of our School’s 40th anniversary\, welcoming fellow Canes as we commemorate our past\, celebrate our present\, and create our future as an exceptional School of Communication. \nRegister here.
URL:https://com.miami.edu/event/homecoming-reception-party-like-its-1985/
LOCATION:School of Communication Courtyard\, 5100 Brunson Dr.\, Coral Gables\, FL\, 33146\, United States
ATTACH;FMTTYPE=image/jpeg:https://com.miami.edu/wp-content/uploads/2025/09/Homecoming-2025-Party-Like-Its-1985-1275-x-550px.jpg
END:VEVENT
END:VCALENDAR