BEGIN:VCALENDAR
VERSION:2.0
PRODID:-//UM School of Communication - ECPv6.15.20//NONSGML v1.0//EN
CALSCALE:GREGORIAN
METHOD:PUBLISH
X-WR-CALNAME:UM School of Communication
X-ORIGINAL-URL:https://com.miami.edu
X-WR-CALDESC:Events for UM School of Communication
REFRESH-INTERVAL;VALUE=DURATION:PT1H
X-Robots-Tag:noindex
X-PUBLISHED-TTL:PT1H
BEGIN:VTIMEZONE
TZID:America/New_York
BEGIN:DAYLIGHT
TZOFFSETFROM:-0500
TZOFFSETTO:-0400
TZNAME:EDT
DTSTART:20240310T070000
END:DAYLIGHT
BEGIN:STANDARD
TZOFFSETFROM:-0400
TZOFFSETTO:-0500
TZNAME:EST
DTSTART:20241103T060000
END:STANDARD
BEGIN:DAYLIGHT
TZOFFSETFROM:-0500
TZOFFSETTO:-0400
TZNAME:EDT
DTSTART:20250309T070000
END:DAYLIGHT
BEGIN:STANDARD
TZOFFSETFROM:-0400
TZOFFSETTO:-0500
TZNAME:EST
DTSTART:20251102T060000
END:STANDARD
BEGIN:DAYLIGHT
TZOFFSETFROM:-0500
TZOFFSETTO:-0400
TZNAME:EDT
DTSTART:20260308T070000
END:DAYLIGHT
BEGIN:STANDARD
TZOFFSETFROM:-0400
TZOFFSETTO:-0500
TZNAME:EST
DTSTART:20261101T060000
END:STANDARD
END:VTIMEZONE
BEGIN:VEVENT
DTSTART;TZID=America/New_York:20251106T170000
DTEND;TZID=America/New_York:20251106T180000
DTSTAMP:20260422T030516
CREATED:20251031T152019Z
LAST-MODIFIED:20251031T152019Z
UID:22422-1762448400-1762452000@com.miami.edu
SUMMARY:Virtual Open House | M.F.A. Programs
DESCRIPTION:Join us for a virtual open house focused on our M.F.A. programs in Interactive Media\, Documentary\, and Motion Pictures. You’ll hear directly from Graduate Program Directors about curriculum\, career paths\, and the hands-on experiences that define each program. This is a great opportunity to ask questions\, learn how to apply\, and find out which M.F.A. track aligns with your creative and professional goals. Register here.
URL:https://com.miami.edu/event/virtual-open-house-m-f-a-programs/
LOCATION:FL
CATEGORIES:All Graduate Students,Open to the public,University of Miami
ATTACH;FMTTYPE=image/jpeg:https://com.miami.edu/wp-content/uploads/2025/10/Grad-Open-House-2025-M.F.A.s.jpg
END:VEVENT
BEGIN:VEVENT
DTSTART;TZID=America/New_York:20251106T200000
DTEND;TZID=America/New_York:20251106T220000
DTSTAMP:20260422T030516
CREATED:20251003T192522Z
LAST-MODIFIED:20251030T195001Z
UID:22047-1762459200-1762466400@com.miami.edu
SUMMARY:Film Screening - Always\, Most of the Time
DESCRIPTION:This film is ultimately a story about one woman’s self-actualization: learning to see herself beyond her relationships and traumas\, and to truly work on her own healing. Watch the trailer here. \n  \nThis event is sponsored by the Department of Communication Studies and the UM Black Alumni Society.
URL:https://com.miami.edu/event/film-screening-always-most-of-the-time/
LOCATION:Bill Cosford Cinema\, 5030 Brunson Drive\, Dooly Memorial 225\, Coral Gables\, FL\, 33146\, United States
CATEGORIES:Open to all of UM,Open to the public,School of Communication,SoC Alumni,SoC Faculty,SoC Staff,SoC Students
ATTACH;FMTTYPE=image/jpeg:https://com.miami.edu/wp-content/uploads/2025/10/Always-Most-of-the-Time-1275x550-1.jpg
END:VEVENT
END:VCALENDAR