BEGIN:VCALENDAR
VERSION:2.0
PRODID:-//UM School of Communication - ECPv6.15.20//NONSGML v1.0//EN
CALSCALE:GREGORIAN
METHOD:PUBLISH
X-WR-CALNAME:UM School of Communication
X-ORIGINAL-URL:https://com.miami.edu
X-WR-CALDESC:Events for UM School of Communication
REFRESH-INTERVAL;VALUE=DURATION:PT1H
X-Robots-Tag:noindex
X-PUBLISHED-TTL:PT1H
BEGIN:VTIMEZONE
TZID:America/New_York
BEGIN:DAYLIGHT
TZOFFSETFROM:-0500
TZOFFSETTO:-0400
TZNAME:EDT
DTSTART:20240310T070000
END:DAYLIGHT
BEGIN:STANDARD
TZOFFSETFROM:-0400
TZOFFSETTO:-0500
TZNAME:EST
DTSTART:20241103T060000
END:STANDARD
BEGIN:DAYLIGHT
TZOFFSETFROM:-0500
TZOFFSETTO:-0400
TZNAME:EDT
DTSTART:20250309T070000
END:DAYLIGHT
BEGIN:STANDARD
TZOFFSETFROM:-0400
TZOFFSETTO:-0500
TZNAME:EST
DTSTART:20251102T060000
END:STANDARD
BEGIN:DAYLIGHT
TZOFFSETFROM:-0500
TZOFFSETTO:-0400
TZNAME:EDT
DTSTART:20260308T070000
END:DAYLIGHT
BEGIN:STANDARD
TZOFFSETFROM:-0400
TZOFFSETTO:-0500
TZNAME:EST
DTSTART:20261101T060000
END:STANDARD
END:VTIMEZONE
BEGIN:VEVENT
DTSTART;TZID=America/New_York:20251023T120000
DTEND;TZID=America/New_York:20251023T131500
DTSTAMP:20260421T131607
CREATED:20250922T203438Z
LAST-MODIFIED:20250922T203457Z
UID:21894-1761220800-1761225300@com.miami.edu
SUMMARY:Brown Bag Luncheon | Rachel Reis Mourão
DESCRIPTION:Media and backlash movements: A Global and Holistic Research Perspective Since 2010\, backlash movements with retrograde objectives have gained global traction\, advocating for the reversal of rights and a return to prior social conditions often marked by nationalism\, xenophobia\, racism\, and anti-democratic goals. This presentation explores the role of the news media in contextualizing such movements and fostering democratic stability. I will use the cases of Brazil and the US to highlight the importance of centering research in countries with a press that has long dealt with authoritarian or semi-authoritarian regimes. The project proposes a research agenda that integrates journalism studies\, practice\, and pedagogy to better understand how media can both challenge and enable backlash movements in diverse global contexts.  \nThe Fall 2025 Brown Bag Lecture series feature presentations of new works by School of Communication faculty. The series will be held in Wolfson 1021\, from 12:00–1:15 p.m. Please feel free to bring your lunch. Desserts will be provided.
URL:https://com.miami.edu/event/brown-bag-luncheon-rachel-reis-mourao/
LOCATION:Wolfson Building\, 1021
CATEGORIES:SoC Faculty,SoC Students
ATTACH;FMTTYPE=image/png:https://com.miami.edu/wp-content/uploads/2025/09/Brown-Bag-Luncheons-1275-x-550-px-Konstantia-Kontaxis.png
END:VEVENT
END:VCALENDAR