BEGIN:VCALENDAR
VERSION:2.0
PRODID:-//UM School of Communication - ECPv6.15.20//NONSGML v1.0//EN
CALSCALE:GREGORIAN
METHOD:PUBLISH
X-WR-CALNAME:UM School of Communication
X-ORIGINAL-URL:https://com.miami.edu
X-WR-CALDESC:Events for UM School of Communication
REFRESH-INTERVAL;VALUE=DURATION:PT1H
X-Robots-Tag:noindex
X-PUBLISHED-TTL:PT1H
BEGIN:VTIMEZONE
TZID:America/New_York
BEGIN:DAYLIGHT
TZOFFSETFROM:-0500
TZOFFSETTO:-0400
TZNAME:EDT
DTSTART:20240310T070000
END:DAYLIGHT
BEGIN:STANDARD
TZOFFSETFROM:-0400
TZOFFSETTO:-0500
TZNAME:EST
DTSTART:20241103T060000
END:STANDARD
BEGIN:DAYLIGHT
TZOFFSETFROM:-0500
TZOFFSETTO:-0400
TZNAME:EDT
DTSTART:20250309T070000
END:DAYLIGHT
BEGIN:STANDARD
TZOFFSETFROM:-0400
TZOFFSETTO:-0500
TZNAME:EST
DTSTART:20251102T060000
END:STANDARD
BEGIN:DAYLIGHT
TZOFFSETFROM:-0500
TZOFFSETTO:-0400
TZNAME:EDT
DTSTART:20260308T070000
END:DAYLIGHT
BEGIN:STANDARD
TZOFFSETFROM:-0400
TZOFFSETTO:-0500
TZNAME:EST
DTSTART:20261101T060000
END:STANDARD
END:VTIMEZONE
BEGIN:VEVENT
DTSTART;TZID=America/New_York:20251016T120000
DTEND;TZID=America/New_York:20251016T131500
DTSTAMP:20260421T031046
CREATED:20250922T202959Z
LAST-MODIFIED:20250924T175616Z
UID:21890-1760616000-1760620500@com.miami.edu
SUMMARY:Brown Bag Luncheon | Sophia Mueller-Bryson
DESCRIPTION:Behind the Campaign: Negotiating Identity in Advertising Practice\n\nBroadly\, while extensive research has been conducted on consumer responses to advertising\, comparatively little attention has been given practitioner perspectives. Within this underexplored domain\, one area of growing interest concerns the construction of professional identities. Existing studies suggest that the industry has crafted a demographic profile of the “ideal” worker\, prioritizing certain characteristics over others. This presentation will explore research on the experiences of those who do not fit the industry’s glass slipper\, and consider the implications for employees\, organizations\, and society at large.\nThe Fall 2025 Brown Bag Lecture series feature presentations of new works by School of Communication faculty. The series will be held in Wolfson 1021\, from 12:00–1:15 p.m. Please feel free to bring your lunch. Desserts will be provided.
URL:https://com.miami.edu/event/brown-bag-luncheon-sophia-mueller-bryson/
LOCATION:Wolfson Building\, 1021
CATEGORIES:SoC Faculty,SoC Students
ATTACH;FMTTYPE=image/png:https://com.miami.edu/wp-content/uploads/2025/09/Brown-Bag-Luncheons-1275-x-550-px-Konstantia-Kontaxis.png
END:VEVENT
BEGIN:VEVENT
DTSTART;TZID=America/New_York:20251016T193000
DTEND;TZID=America/New_York:20251016T220000
DTSTAMP:20260421T031046
CREATED:20250929T154645Z
LAST-MODIFIED:20250929T154645Z
UID:21964-1760643000-1760652000@com.miami.edu
SUMMARY:Indie Night!
DESCRIPTION:Film Screening for Spooky Season: Do Not Disturb. Register here.
URL:https://com.miami.edu/event/indie-night/
LOCATION:Bill Cosford Cinema\, 5030 Brunson Drive\, Dooly Memorial 225\, Coral Gables\, FL\, 33146\, United States
CATEGORIES:Open to all of UM,Open to the public
ATTACH;FMTTYPE=image/jpeg:https://com.miami.edu/wp-content/uploads/2025/09/DND-banner-Rechna-Varma-scaled.jpg
END:VEVENT
END:VCALENDAR