BEGIN:VCALENDAR
VERSION:2.0
PRODID:-//UM School of Communication - ECPv6.15.20//NONSGML v1.0//EN
CALSCALE:GREGORIAN
METHOD:PUBLISH
X-WR-CALNAME:UM School of Communication
X-ORIGINAL-URL:https://com.miami.edu
X-WR-CALDESC:Events for UM School of Communication
REFRESH-INTERVAL;VALUE=DURATION:PT1H
X-Robots-Tag:noindex
X-PUBLISHED-TTL:PT1H
BEGIN:VTIMEZONE
TZID:America/New_York
BEGIN:DAYLIGHT
TZOFFSETFROM:-0500
TZOFFSETTO:-0400
TZNAME:EDT
DTSTART:20240310T070000
END:DAYLIGHT
BEGIN:STANDARD
TZOFFSETFROM:-0400
TZOFFSETTO:-0500
TZNAME:EST
DTSTART:20241103T060000
END:STANDARD
BEGIN:DAYLIGHT
TZOFFSETFROM:-0500
TZOFFSETTO:-0400
TZNAME:EDT
DTSTART:20250309T070000
END:DAYLIGHT
BEGIN:STANDARD
TZOFFSETFROM:-0400
TZOFFSETTO:-0500
TZNAME:EST
DTSTART:20251102T060000
END:STANDARD
BEGIN:DAYLIGHT
TZOFFSETFROM:-0500
TZOFFSETTO:-0400
TZNAME:EDT
DTSTART:20260308T070000
END:DAYLIGHT
BEGIN:STANDARD
TZOFFSETFROM:-0400
TZOFFSETTO:-0500
TZNAME:EST
DTSTART:20261101T060000
END:STANDARD
END:VTIMEZONE
BEGIN:VEVENT
DTSTART;TZID=America/New_York:20251002T170000
DTEND;TZID=America/New_York:20251002T180000
DTSTAMP:20260421T030704
CREATED:20250929T153857Z
LAST-MODIFIED:20250929T153911Z
UID:21959-1759424400-1759428000@com.miami.edu
SUMMARY:Barcelona Summer 2026 Study Abroad Info Session
DESCRIPTION:The Barcelona Study Abroad course is back for Summer 2026—and this is one opportunity you don’t want to miss! \nThis three-credit\, three-week\, faculty-led program is open to all majors\, including graduate students. The course\, Global Communication in a Social Media Age\, is designed to sharpen your storytelling skills\, elevate your social media projects\, and connect you with leading global media organizations. Past site visits have included Ogilvy\, MediaPro\, Filmax\, Cyberclick\, and DDB—just to name a few. \nThis isn’t just another class—it’s a transformative experience. \n📌 Info Session \n📅 Date: Thursday\, October 2\n⏰ Time: 5:15–6:15 PM (ET)\n💻 Where: Zoom\n🆔 Zoom ID: https://miami.zoom.us/j/96068601046 \n🔗 Learn more about the program: Barcelona Program Page\n📸 Follow us on Instagram for updates and snapshots: @canesinbarcelona \nIf you have any questions\, please free to reach out to: \nLuis Herrera:  lherrera@miami.edu
URL:https://com.miami.edu/event/barcelona-summer-2026-study-abroad-info-session-oct-2/
LOCATION:FL
CATEGORIES:All UM Students
ATTACH;FMTTYPE=image/jpeg:https://com.miami.edu/wp-content/uploads/2025/09/Barcelona-Zoom-Info-Session-Thurs.-Oct.-2-2025.jpg
END:VEVENT
END:VCALENDAR