BEGIN:VCALENDAR
VERSION:2.0
PRODID:-//UM School of Communication - ECPv6.15.20//NONSGML v1.0//EN
CALSCALE:GREGORIAN
METHOD:PUBLISH
X-WR-CALNAME:UM School of Communication
X-ORIGINAL-URL:https://com.miami.edu
X-WR-CALDESC:Events for UM School of Communication
REFRESH-INTERVAL;VALUE=DURATION:PT1H
X-Robots-Tag:noindex
X-PUBLISHED-TTL:PT1H
BEGIN:VTIMEZONE
TZID:America/New_York
BEGIN:DAYLIGHT
TZOFFSETFROM:-0500
TZOFFSETTO:-0400
TZNAME:EDT
DTSTART:20240310T070000
END:DAYLIGHT
BEGIN:STANDARD
TZOFFSETFROM:-0400
TZOFFSETTO:-0500
TZNAME:EST
DTSTART:20241103T060000
END:STANDARD
BEGIN:DAYLIGHT
TZOFFSETFROM:-0500
TZOFFSETTO:-0400
TZNAME:EDT
DTSTART:20250309T070000
END:DAYLIGHT
BEGIN:STANDARD
TZOFFSETFROM:-0400
TZOFFSETTO:-0500
TZNAME:EST
DTSTART:20251102T060000
END:STANDARD
BEGIN:DAYLIGHT
TZOFFSETFROM:-0500
TZOFFSETTO:-0400
TZNAME:EDT
DTSTART:20260308T070000
END:DAYLIGHT
BEGIN:STANDARD
TZOFFSETFROM:-0400
TZOFFSETTO:-0500
TZNAME:EST
DTSTART:20261101T060000
END:STANDARD
END:VTIMEZONE
BEGIN:VEVENT
DTSTART;TZID=America/New_York:20250924T180000
DTEND;TZID=America/New_York:20250924T190000
DTSTAMP:20260421T091120
CREATED:20250904T153134Z
LAST-MODIFIED:20250911T163326Z
UID:21762-1758736800-1758740400@com.miami.edu
SUMMARY:Like\, Comment\, Connect
DESCRIPTION:Making LinkedIn Work for You \n\n\nReady to level up your LinkedIn? In this workshop\, you’ll learn how to build a standout profile\, showcase your experiences\, and use LinkedIn to connect with alumni\, recruiters\, and employers. Walk away with a polished profile and new strategies to grow your professional network.\n\nAttend in person at the Interactive Media Center (Wolfson 1005) or via Zoom.
URL:https://com.miami.edu/event/like-comment-connect/
LOCATION:Koenigsberg & Nadal Interactive Media Center\, 5100 Brunson Dr.\, Coral Gables\, FL\, 33146
ATTACH;FMTTYPE=image/png:https://com.miami.edu/wp-content/uploads/2025/09/2025-9.24-LinkedInworkshop-1.png
ORGANIZER;CN="Stein Family Career Office":MAILTO:comcareers@miami.edu
END:VEVENT
END:VCALENDAR