BEGIN:VCALENDAR
VERSION:2.0
PRODID:-//UM School of Communication - ECPv6.15.20//NONSGML v1.0//EN
CALSCALE:GREGORIAN
METHOD:PUBLISH
X-WR-CALNAME:UM School of Communication
X-ORIGINAL-URL:https://com.miami.edu
X-WR-CALDESC:Events for UM School of Communication
REFRESH-INTERVAL;VALUE=DURATION:PT1H
X-Robots-Tag:noindex
X-PUBLISHED-TTL:PT1H
BEGIN:VTIMEZONE
TZID:America/New_York
BEGIN:DAYLIGHT
TZOFFSETFROM:-0500
TZOFFSETTO:-0400
TZNAME:EDT
DTSTART:20240310T070000
END:DAYLIGHT
BEGIN:STANDARD
TZOFFSETFROM:-0400
TZOFFSETTO:-0500
TZNAME:EST
DTSTART:20241103T060000
END:STANDARD
BEGIN:DAYLIGHT
TZOFFSETFROM:-0500
TZOFFSETTO:-0400
TZNAME:EDT
DTSTART:20250309T070000
END:DAYLIGHT
BEGIN:STANDARD
TZOFFSETFROM:-0400
TZOFFSETTO:-0500
TZNAME:EST
DTSTART:20251102T060000
END:STANDARD
BEGIN:DAYLIGHT
TZOFFSETFROM:-0500
TZOFFSETTO:-0400
TZNAME:EDT
DTSTART:20260308T070000
END:DAYLIGHT
BEGIN:STANDARD
TZOFFSETFROM:-0400
TZOFFSETTO:-0500
TZNAME:EST
DTSTART:20261101T060000
END:STANDARD
END:VTIMEZONE
BEGIN:VEVENT
DTSTART;TZID=America/New_York:20250402T140000
DTEND;TZID=America/New_York:20250402T150000
DTSTAMP:20260420T111623
CREATED:20250326T151737Z
LAST-MODIFIED:20250326T151737Z
UID:20647-1743602400-1743606000@com.miami.edu
SUMMARY:Like\, Comment\, Connect: Making LinkedIn Work For You
DESCRIPTION:Looking to stand out on LinkedIn and actually get noticed by employers? Join the School of Communication’s Marketing & Digital Engagement Manager\, Abbie Bernet\, for an interactive workshop that will show you how to build a profile that pops\, share content that grabs attention\, and connect with industry pros the right way. Whether you’re just getting started or looking to level up your LinkedIn game\, you’ll leave with practical tips to boost your visibility and grow your network. Don’t miss out – your next big opportunity could be one connection away!
URL:https://com.miami.edu/event/like-comment-connect-making-linkedin-work-for-you/
LOCATION:FL
CATEGORIES:SoC Students
ATTACH;FMTTYPE=image/jpeg:https://com.miami.edu/wp-content/uploads/2025/03/Web-2025.4.2-LinkedInWorkshop.jpg
ORGANIZER;CN="Stein Family Career Office":MAILTO:comcareers@miami.edu
END:VEVENT
END:VCALENDAR