BEGIN:VCALENDAR
VERSION:2.0
PRODID:-//UM School of Communication - ECPv6.15.20//NONSGML v1.0//EN
CALSCALE:GREGORIAN
METHOD:PUBLISH
X-WR-CALNAME:UM School of Communication
X-ORIGINAL-URL:https://com.miami.edu
X-WR-CALDESC:Events for UM School of Communication
REFRESH-INTERVAL;VALUE=DURATION:PT1H
X-Robots-Tag:noindex
X-PUBLISHED-TTL:PT1H
BEGIN:VTIMEZONE
TZID:America/New_York
BEGIN:DAYLIGHT
TZOFFSETFROM:-0500
TZOFFSETTO:-0400
TZNAME:EDT
DTSTART:20240310T070000
END:DAYLIGHT
BEGIN:STANDARD
TZOFFSETFROM:-0400
TZOFFSETTO:-0500
TZNAME:EST
DTSTART:20241103T060000
END:STANDARD
BEGIN:DAYLIGHT
TZOFFSETFROM:-0500
TZOFFSETTO:-0400
TZNAME:EDT
DTSTART:20250309T070000
END:DAYLIGHT
BEGIN:STANDARD
TZOFFSETFROM:-0400
TZOFFSETTO:-0500
TZNAME:EST
DTSTART:20251102T060000
END:STANDARD
BEGIN:DAYLIGHT
TZOFFSETFROM:-0500
TZOFFSETTO:-0400
TZNAME:EDT
DTSTART:20260308T070000
END:DAYLIGHT
BEGIN:STANDARD
TZOFFSETFROM:-0400
TZOFFSETTO:-0500
TZNAME:EST
DTSTART:20261101T060000
END:STANDARD
END:VTIMEZONE
BEGIN:VEVENT
DTSTART;TZID=America/New_York:20250207T090000
DTEND;TZID=America/New_York:20250207T160000
DTSTAMP:20260421T212857
CREATED:20241122T185150Z
LAST-MODIFIED:20241122T185707Z
UID:19338-1738918800-1738944000@com.miami.edu
SUMMARY:Miami XR 2025 Day 2
DESCRIPTION:MIAMI XR 2025: Where Innovation Meets Imagination\n\n\n\n\nUMverse at the University of Miami invites you to dive into the cutting-edge world of XR at Miami XR 2025\, Thursday and Friday\, February 6+7. Join industry experts\, tech visionaries\, artists\, and university scholars from around the globe to explore the latest trends and innovations in XR technology. \nKeynote speaker Jeremy Bailenson\, founding director of Stanford’s Virtual Human Interaction Lab\, will share insights on how virtual experiences are reshaping education\, social interaction\, and empathy. Experience the future of XR with interactive demos\, panel discussions\, and hands-on sessions. \nIn-person and virtual participation are available—bringing the future to you\, wherever you are! \nRegister Now\n$30.00 per person (both days included) • Free for UM Faculty\, Staff\, and Students. Please email idsc@miami.edu for the PROMO CODE. \nDay 2 Friday 2/7/2025 • Newman Alumni Center (Multipurpose ABC)\n6200 San Amaro Drive\, Coral Gables\, FL 33146 | Directions + Parking \n9:00 AM Registration Opens | BREAKFAST and POSTERS\n10:00 AM Welcome Remarks | Mia Uy\n10:10 AM Lightning Talks\n10:30 AM KEYNOTE SPEAKER: Jeremy Bailenson\n11:15 AM Break\n11:35 AM PANEL “Jobs in XR” | Thomas Merrick\n12:15 PM LUNCH and DEMOS\n1:30 PM Lightning Talks\n1:50 PM SPEAKER\n2:40 PM “XR at The U” | Thomas Merrick\n3:00 PM PANEL “Storytelling in XR” | Anna Queiroz\n3:45 PM Closing Remarks | Kim Grinfeder
URL:https://com.miami.edu/event/miami-xr-2025-day-2/
LOCATION:Newman Alumni Center (Multipurpose ABC)\, 6200 San Amaro Drive\, Coral Gables\, FL\, 33146\, United States
CATEGORIES:Open to all of UM,Open to the public
ATTACH;FMTTYPE=image/jpeg:https://com.miami.edu/wp-content/uploads/2024/11/miami-xr-2025-placeholder-image-1240x550-1.jpg
END:VEVENT
END:VCALENDAR