BEGIN:VCALENDAR
VERSION:2.0
PRODID:-//UM School of Communication - ECPv6.15.20//NONSGML v1.0//EN
CALSCALE:GREGORIAN
METHOD:PUBLISH
X-WR-CALNAME:UM School of Communication
X-ORIGINAL-URL:https://com.miami.edu
X-WR-CALDESC:Events for UM School of Communication
REFRESH-INTERVAL;VALUE=DURATION:PT1H
X-Robots-Tag:noindex
X-PUBLISHED-TTL:PT1H
BEGIN:VTIMEZONE
TZID:America/New_York
BEGIN:DAYLIGHT
TZOFFSETFROM:-0500
TZOFFSETTO:-0400
TZNAME:EDT
DTSTART:20230312T070000
END:DAYLIGHT
BEGIN:STANDARD
TZOFFSETFROM:-0400
TZOFFSETTO:-0500
TZNAME:EST
DTSTART:20231105T060000
END:STANDARD
BEGIN:DAYLIGHT
TZOFFSETFROM:-0500
TZOFFSETTO:-0400
TZNAME:EDT
DTSTART:20240310T070000
END:DAYLIGHT
BEGIN:STANDARD
TZOFFSETFROM:-0400
TZOFFSETTO:-0500
TZNAME:EST
DTSTART:20241103T060000
END:STANDARD
BEGIN:DAYLIGHT
TZOFFSETFROM:-0500
TZOFFSETTO:-0400
TZNAME:EDT
DTSTART:20250309T070000
END:DAYLIGHT
BEGIN:STANDARD
TZOFFSETFROM:-0400
TZOFFSETTO:-0500
TZNAME:EST
DTSTART:20251102T060000
END:STANDARD
END:VTIMEZONE
BEGIN:VEVENT
DTSTART;TZID=America/New_York:20240930T080000
DTEND;TZID=America/New_York:20241231T235900
DTSTAMP:20260422T075352
CREATED:20240930T193934Z
LAST-MODIFIED:20240930T193934Z
UID:18581-1727683200-1735689540@com.miami.edu
SUMMARY:Call for submissions - Canes Black History Film Festival
DESCRIPTION:The School of Communication is pleased to announce the second annual United Black Students and UTrailblazers Canes Black History Film Festival. We seek short films that reflect on University of Miami’s rich Black History. We welcome short films on any aspect of Black History (including Black diasporic history) as well as films from any genre\, including\, but not limited to documentary\, news\, comedy\, experimental\, and drama. Thematically\, we invite short films that reflect on Blackness\, broadly construed. We are particularly interested in films that are based on contents in the UTrailblazers Experience\, current events\, and/or Black student experience(s) on a multicultural campus. \n  \nLearn more and submit your film here.
URL:https://com.miami.edu/event/call-for-submissions-canes-black-history-film-festival/
LOCATION:FL
CATEGORIES:All UM Students,Open to all of UM,School of Communication,Students,University of Miami
ATTACH;FMTTYPE=image/jpeg:https://com.miami.edu/wp-content/uploads/2024/09/Event-Submissions-for-Canes-Black-History-Film-Festival-2025.jpg
END:VEVENT
BEGIN:VEVENT
DTSTART;TZID=America/New_York:20241029T170000
DTEND;TZID=America/New_York:20241029T180000
DTSTAMP:20260422T075352
CREATED:20241025T191012Z
LAST-MODIFIED:20241025T191012Z
UID:19078-1730221200-1730224800@com.miami.edu
SUMMARY:UMLA: Zoom info session
DESCRIPTION:UMLA: May 12-18\, 2025 \nThe School of Communication is excited to offer UMLA\, a three-credit\, seven-day transformative experience that takes students on a journey through the entertainment capital of the world. Immerse yourself in the dynamic city of Los Angeles. \n\nApplication deadline is Nov. 4\, 2024. For details on upcoming info sessions and the application process\, contact joselyn@miami.edu.
URL:https://com.miami.edu/event/umla-zoom-info-session/
LOCATION:FL
CATEGORIES:All UM Students
ATTACH;FMTTYPE=image/jpeg:https://com.miami.edu/wp-content/uploads/2024/10/Updated-Flyer-UMLA-Spring-2025_web.jpg
ORGANIZER;CN="Christina Lane":MAILTO:clane@miami.edu
END:VEVENT
END:VCALENDAR