BEGIN:VCALENDAR
VERSION:2.0
PRODID:-//UM School of Communication - ECPv6.15.20//NONSGML v1.0//EN
CALSCALE:GREGORIAN
METHOD:PUBLISH
X-WR-CALNAME:UM School of Communication
X-ORIGINAL-URL:https://com.miami.edu
X-WR-CALDESC:Events for UM School of Communication
REFRESH-INTERVAL;VALUE=DURATION:PT1H
X-Robots-Tag:noindex
X-PUBLISHED-TTL:PT1H
BEGIN:VTIMEZONE
TZID:America/New_York
BEGIN:DAYLIGHT
TZOFFSETFROM:-0500
TZOFFSETTO:-0400
TZNAME:EDT
DTSTART:20230312T070000
END:DAYLIGHT
BEGIN:STANDARD
TZOFFSETFROM:-0400
TZOFFSETTO:-0500
TZNAME:EST
DTSTART:20231105T060000
END:STANDARD
BEGIN:DAYLIGHT
TZOFFSETFROM:-0500
TZOFFSETTO:-0400
TZNAME:EDT
DTSTART:20240310T070000
END:DAYLIGHT
BEGIN:STANDARD
TZOFFSETFROM:-0400
TZOFFSETTO:-0500
TZNAME:EST
DTSTART:20241103T060000
END:STANDARD
BEGIN:DAYLIGHT
TZOFFSETFROM:-0500
TZOFFSETTO:-0400
TZNAME:EDT
DTSTART:20250309T070000
END:DAYLIGHT
BEGIN:STANDARD
TZOFFSETFROM:-0400
TZOFFSETTO:-0500
TZNAME:EST
DTSTART:20251102T060000
END:STANDARD
END:VTIMEZONE
BEGIN:VEVENT
DTSTART;TZID=America/New_York:20240912T180000
DTEND;TZID=America/New_York:20240912T203000
DTSTAMP:20260423T103419
CREATED:20240827T182937Z
LAST-MODIFIED:20240827T183229Z
UID:17277-1726164000-1726173000@com.miami.edu
SUMMARY:Road to the Emmys
DESCRIPTION:Don’t miss the chance to not only network with influential figures\, but to also connect with our next generation of communication professionals. \nPlease RSVP by Sept. 5 to reserve your seat. We look forward to seeing you there! \nP.S. Don’t forget to come in your best Miami glam\, sparkle\, and shine.
URL:https://com.miami.edu/event/road-to-the-emmys/
LOCATION:Bill Cosford Cinema\, 5030 Brunson Drive\, Dooly Memorial 225\, Coral Gables\, FL\, 33146\, United States
CATEGORIES:School of Communication,SoC Alumni,SoC Faculty,SoC Staff,SoC Students
ATTACH;FMTTYPE=image/jpeg:https://com.miami.edu/wp-content/uploads/2024/08/WEB-Emmys-Invite-to-Students-Alums.jpg
ORGANIZER;CN="Stein Family Career Office":MAILTO:comcareers@miami.edu
END:VEVENT
END:VCALENDAR