BEGIN:VCALENDAR
VERSION:2.0
PRODID:-//UM School of Communication - ECPv6.15.20//NONSGML v1.0//EN
CALSCALE:GREGORIAN
METHOD:PUBLISH
X-WR-CALNAME:UM School of Communication
X-ORIGINAL-URL:https://com.miami.edu
X-WR-CALDESC:Events for UM School of Communication
REFRESH-INTERVAL;VALUE=DURATION:PT1H
X-Robots-Tag:noindex
X-PUBLISHED-TTL:PT1H
BEGIN:VTIMEZONE
TZID:America/New_York
BEGIN:DAYLIGHT
TZOFFSETFROM:-0500
TZOFFSETTO:-0400
TZNAME:EDT
DTSTART:20230312T070000
END:DAYLIGHT
BEGIN:STANDARD
TZOFFSETFROM:-0400
TZOFFSETTO:-0500
TZNAME:EST
DTSTART:20231105T060000
END:STANDARD
BEGIN:DAYLIGHT
TZOFFSETFROM:-0500
TZOFFSETTO:-0400
TZNAME:EDT
DTSTART:20240310T070000
END:DAYLIGHT
BEGIN:STANDARD
TZOFFSETFROM:-0400
TZOFFSETTO:-0500
TZNAME:EST
DTSTART:20241103T060000
END:STANDARD
BEGIN:DAYLIGHT
TZOFFSETFROM:-0500
TZOFFSETTO:-0400
TZNAME:EDT
DTSTART:20250309T070000
END:DAYLIGHT
BEGIN:STANDARD
TZOFFSETFROM:-0400
TZOFFSETTO:-0500
TZNAME:EST
DTSTART:20251102T060000
END:STANDARD
END:VTIMEZONE
BEGIN:VEVENT
DTSTART;TZID=America/New_York:20240124T090000
DTEND;TZID=America/New_York:20240124T170000
DTSTAMP:20260421T193838
CREATED:20240116T165237Z
LAST-MODIFIED:20240116T173209Z
UID:14723-1706086800-1706115600@com.miami.edu
SUMMARY:In-Person Open House
DESCRIPTION:Stop by the School of Communication Office of Graduate Studies anytime on January 24 or 25 to learn about our master’s programs\, ask questions\, enjoy refreshments\, grab some convenient snacks on-the-go\, and even snag some cool swag items.\n\nFor more information\, please send an email to socgrad@miami.edu.
URL:https://com.miami.edu/event/in-person-open-house/
LOCATION:Graduate Studies: WCB 4002\, 5100 Brunson Dr.\, Coral Gables\, FL\, 33146\, United States
CATEGORIES:Open to all of UM,Open to the public
ATTACH;FMTTYPE=image/jpeg:https://com.miami.edu/wp-content/uploads/2024/01/Grad-Info-Session-Jan-2024_Final.jpg
ORGANIZER;CN="Christina Lane":MAILTO:clane@miami.edu
END:VEVENT
BEGIN:VEVENT
DTSTART;TZID=America/New_York:20240124T140000
DTEND;TZID=America/New_York:20240124T150000
DTSTAMP:20260421T193838
CREATED:20240123T190540Z
LAST-MODIFIED:20240123T190703Z
UID:14838-1706104800-1706108400@com.miami.edu
SUMMARY:Study Abroad Information Session: Cinema\, Photography in Europe
DESCRIPTION:Cinema\, Photography in Europe: Prague\, Berlin\, Vienna\, Munich\, Dresden\, and Salzburg.  \nMake movies and create photos in magical\, medieval Prague\, Berlin\, Vienna\, Munich\, Dresden\, and Salzburg. Receive hands-on training from professional European artists and scholars. Add a diploma/certificate to your resume from Europe’s #1 film school. Designed for undergraduate or graduates\, all majors\, all levels\, all schools\, with or without experience.  \n \nCinema Photography In Europe- UM Summer 2024 Study Abroad from CIM-AH on Vimeo.
URL:https://com.miami.edu/event/study-abroad-information-session-cinema-photography-in-europe/
LOCATION:Koenigsberg & Nadal Interactive Media Center\, 5100 Brunson Dr.\, Coral Gables\, FL\, 33146
CATEGORIES:All UM Students
ATTACH;FMTTYPE=image/jpeg:https://com.miami.edu/wp-content/uploads/2024/01/Prague-EuropeFilmA4size-copy_web.jpg
ORGANIZER;CN="Ali Habashi":MAILTO:ahabashi@miami.edu
END:VEVENT
END:VCALENDAR