BEGIN:VCALENDAR
VERSION:2.0
PRODID:-//UM School of Communication - ECPv6.15.20//NONSGML v1.0//EN
CALSCALE:GREGORIAN
METHOD:PUBLISH
X-WR-CALNAME:UM School of Communication
X-ORIGINAL-URL:https://com.miami.edu
X-WR-CALDESC:Events for UM School of Communication
REFRESH-INTERVAL;VALUE=DURATION:PT1H
X-Robots-Tag:noindex
X-PUBLISHED-TTL:PT1H
BEGIN:VTIMEZONE
TZID:America/New_York
BEGIN:DAYLIGHT
TZOFFSETFROM:-0500
TZOFFSETTO:-0400
TZNAME:EDT
DTSTART:20230312T070000
END:DAYLIGHT
BEGIN:STANDARD
TZOFFSETFROM:-0400
TZOFFSETTO:-0500
TZNAME:EST
DTSTART:20231105T060000
END:STANDARD
BEGIN:DAYLIGHT
TZOFFSETFROM:-0500
TZOFFSETTO:-0400
TZNAME:EDT
DTSTART:20240310T070000
END:DAYLIGHT
BEGIN:STANDARD
TZOFFSETFROM:-0400
TZOFFSETTO:-0500
TZNAME:EST
DTSTART:20241103T060000
END:STANDARD
BEGIN:DAYLIGHT
TZOFFSETFROM:-0500
TZOFFSETTO:-0400
TZNAME:EDT
DTSTART:20250309T070000
END:DAYLIGHT
BEGIN:STANDARD
TZOFFSETFROM:-0400
TZOFFSETTO:-0500
TZNAME:EST
DTSTART:20251102T060000
END:STANDARD
END:VTIMEZONE
BEGIN:VEVENT
DTSTART;TZID=America/New_York:20240118T120000
DTEND;TZID=America/New_York:20240118T130000
DTSTAMP:20260422T094637
CREATED:20240116T164738Z
LAST-MODIFIED:20240116T173400Z
UID:14720-1705579200-1705582800@com.miami.edu
SUMMARY:M.F.A. Programs Virtual Info Session
DESCRIPTION:Join us for the upcoming School of Communication Virtual Info Session for a live session that covers our M.F.A. Programs. \nM.F.A. Programs\nMotion Pictures\nDocumentary\nInteractive Media\n \nGraduate advisors will discuss application requirements\, program information\, financial aid\, and more. You will have the opportunity to meet with faculty from various programs and ask questions.
URL:https://com.miami.edu/event/m-f-a-programs-open-house/
LOCATION:Zoom
CATEGORIES:Open to all of UM,Open to the public
ATTACH;FMTTYPE=image/jpeg:https://com.miami.edu/wp-content/uploads/2024/01/Grad-Info-Session-Jan-2024_FINAL_.jpg
ORGANIZER;CN="Christina Lane":MAILTO:clane@miami.edu
END:VEVENT
END:VCALENDAR