BEGIN:VCALENDAR
VERSION:2.0
PRODID:-//UM School of Communication - ECPv6.15.20//NONSGML v1.0//EN
CALSCALE:GREGORIAN
METHOD:PUBLISH
X-WR-CALNAME:UM School of Communication
X-ORIGINAL-URL:https://com.miami.edu
X-WR-CALDESC:Events for UM School of Communication
REFRESH-INTERVAL;VALUE=DURATION:PT1H
X-Robots-Tag:noindex
X-PUBLISHED-TTL:PT1H
BEGIN:VTIMEZONE
TZID:America/New_York
BEGIN:DAYLIGHT
TZOFFSETFROM:-0500
TZOFFSETTO:-0400
TZNAME:EDT
DTSTART:20220313T070000
END:DAYLIGHT
BEGIN:STANDARD
TZOFFSETFROM:-0400
TZOFFSETTO:-0500
TZNAME:EST
DTSTART:20221106T060000
END:STANDARD
BEGIN:DAYLIGHT
TZOFFSETFROM:-0500
TZOFFSETTO:-0400
TZNAME:EDT
DTSTART:20230312T070000
END:DAYLIGHT
BEGIN:STANDARD
TZOFFSETFROM:-0400
TZOFFSETTO:-0500
TZNAME:EST
DTSTART:20231105T060000
END:STANDARD
BEGIN:DAYLIGHT
TZOFFSETFROM:-0500
TZOFFSETTO:-0400
TZNAME:EDT
DTSTART:20240310T070000
END:DAYLIGHT
BEGIN:STANDARD
TZOFFSETFROM:-0400
TZOFFSETTO:-0500
TZNAME:EST
DTSTART:20241103T060000
END:STANDARD
END:VTIMEZONE
BEGIN:VEVENT
DTSTART;TZID=America/New_York:20230826T170000
DTEND;TZID=America/New_York:20230826T193000
DTSTAMP:20260422T152612
CREATED:20230814T155759Z
LAST-MODIFIED:20230814T162129Z
UID:13526-1693069200-1693078200@com.miami.edu
SUMMARY:Watching Movies with Daniella Levine Cava: 'My Cousin Vinny' (1992)
DESCRIPTION:Join Miami-Dade County Mayor Daniella Levine Cava and Bill Cosford Cinema manager\, Rene Rodriguez\, for a screening of the 1992 comedy “My Cousin Vinny” followed by a Q&A in-person discussion about Cava’s love affair with the movies. \nDaniella Levine Cava was elected Miami-Dade County’s first-ever woman Mayor in November 2020. She entered the Mayor’s office following a 40-year career as a relentless advocate for South Florida families in public service and elected leadership. \nAs Miami-Dade County’s Mayor\, she oversees a metropolitan government with nearly 30\,000 employees serving nearly 3 million residents\, managing an annual budget of approximately $10 billion. \nA social worker\, lawyer\, and community activist\, she was first elected in 2014\, and re-elected in August 2018\, to serve as the Miami-Dade County Commissioner representing District 8. \nShe came to elected office after having served as an advocate for South Florida families for over 30 years. She served special needs children\, low-income families and immigrants at Legal Services of Greater Miami\, and then represented children in foster care and adoption system as Acting\, Associate and Legal Director for the Guardian Ad Litem Program. \nShe’s won numerous awards from various organizations including: the Commission on Ethics\, Red Cross\, American Society for Public Administration\, ACLU\, National Council of Jewish Women\, League of Women Voters\, among others. \nMY COUSIN VINNY | (1992) | DIRECTOR: Jonathan Lynn | WITH: Joe Pesci\, Marisa Tomei\, Ralph Macchio\, Mitchell Whitfield\, Fred Gwynne | RUNNING TIME: 2 HOURS | RATED R for language \nIn this hit comedy that earned Marisa Tomei an Oscar for Best Supporting Actress\, two New Yorkers accused of murder in rural Alabama while on their way back to college call in the help of one of their cousins (Joe Pesci)\, a loudmouth lawyer with no trial experience. \n“While it’s easy to imagine an infinite number of bad courtroom comedies based on this scenario\, this movie turns out to be wonderful — broad and low character comedy that’s solidly imagined and beautifully played.” — Jonathan Rosenbaum\, Chicago Reader \nTickets are $10 and are available via the link. UM students use code UMSTUDENT at checkout for free admission. Cane card required at door.
URL:https://com.miami.edu/event/watching-movies-with-daniella-levine-cava-my-cousin-vinny-1992/
LOCATION:Bill Cosford Cinema\, 5030 Brunson Drive\, Dooly Memorial 225\, Coral Gables\, FL\, 33146\, United States
CATEGORIES:Open to all of UM,Open to the public
ATTACH;FMTTYPE=image/jpeg:https://com.miami.edu/wp-content/uploads/2023/08/Watching-Movies-With-DaniellaLevineCava_1275x850.jpg
ORGANIZER;CN="Rene Rodriguez":MAILTO:renerodriguez@miami.edu
END:VEVENT
END:VCALENDAR