BEGIN:VCALENDAR
VERSION:2.0
PRODID:-//UM School of Communication - ECPv6.15.20//NONSGML v1.0//EN
CALSCALE:GREGORIAN
METHOD:PUBLISH
X-WR-CALNAME:UM School of Communication
X-ORIGINAL-URL:https://com.miami.edu
X-WR-CALDESC:Events for UM School of Communication
REFRESH-INTERVAL;VALUE=DURATION:PT1H
X-Robots-Tag:noindex
X-PUBLISHED-TTL:PT1H
BEGIN:VTIMEZONE
TZID:America/New_York
BEGIN:DAYLIGHT
TZOFFSETFROM:-0500
TZOFFSETTO:-0400
TZNAME:EDT
DTSTART:20220313T070000
END:DAYLIGHT
BEGIN:STANDARD
TZOFFSETFROM:-0400
TZOFFSETTO:-0500
TZNAME:EST
DTSTART:20221106T060000
END:STANDARD
BEGIN:DAYLIGHT
TZOFFSETFROM:-0500
TZOFFSETTO:-0400
TZNAME:EDT
DTSTART:20230312T070000
END:DAYLIGHT
BEGIN:STANDARD
TZOFFSETFROM:-0400
TZOFFSETTO:-0500
TZNAME:EST
DTSTART:20231105T060000
END:STANDARD
BEGIN:DAYLIGHT
TZOFFSETFROM:-0500
TZOFFSETTO:-0400
TZNAME:EDT
DTSTART:20240310T070000
END:DAYLIGHT
BEGIN:STANDARD
TZOFFSETFROM:-0400
TZOFFSETTO:-0500
TZNAME:EST
DTSTART:20241103T060000
END:STANDARD
END:VTIMEZONE
BEGIN:VEVENT
DTSTART;TZID=America/New_York:20230520T170000
DTEND;TZID=America/New_York:20230520T193000
DTSTAMP:20260421T232745
CREATED:20230516T153144Z
LAST-MODIFIED:20230516T153254Z
UID:13294-1684602000-1684611000@com.miami.edu
SUMMARY:GLOBAL FRONTIERS: 'MINARI'
DESCRIPTION:Join us for the seventh installment in a new breakthrough monthly film series at the Cosford Cinema focusing on current world issues such as migration and social inclusion\, peace and security\, aging populations\, democracy\, climate change\, and artificial intelligence. \nThe series is intended to bring two types of audiences together: Movie lovers and people who care about current events. \nThe film “Minari” depicts the story of a Korean-American family who move to an Arkansas farm in pursuit of their American Dream. The film received six nominations at the 93rd Academy Awards\, including Best Picture\, Best Director\, Best Original Score\, Best Original Screenplay\, Best Actor\, and Best Supporting Actress (Youn). Youn won the award for her performance\, making her the first Korean actor to win an Academy Award. \nRegina Ahn\, assistant professor in the Department of Strategic Communication at the University of Miami School of Communication\, will lead an engaging discussion before and after the screening. The conversation will focus on the challenges faced by migrant families\, parental mediation\, and social media. \nAdmission is free but registration required at link\, https://events.miami.edu/event/global_frontiers_minari. We hope to see you there!
URL:https://com.miami.edu/event/global-frontiers-minari/
LOCATION:Bill Cosford Cinema\, 5030 Brunson Drive\, Dooly Memorial 225\, Coral Gables\, FL\, 33146\, United States
CATEGORIES:Open to all of UM,Open to the public
ATTACH;FMTTYPE=image/jpeg:https://com.miami.edu/wp-content/uploads/2023/05/Global-Frontiers7_web.jpg
ORGANIZER;CN="Ali Habashi":MAILTO:ahabashi@miami.edu
END:VEVENT
END:VCALENDAR