BEGIN:VCALENDAR
VERSION:2.0
PRODID:-//UM School of Communication - ECPv6.15.20//NONSGML v1.0//EN
CALSCALE:GREGORIAN
METHOD:PUBLISH
X-WR-CALNAME:UM School of Communication
X-ORIGINAL-URL:https://com.miami.edu
X-WR-CALDESC:Events for UM School of Communication
REFRESH-INTERVAL;VALUE=DURATION:PT1H
X-Robots-Tag:noindex
X-PUBLISHED-TTL:PT1H
BEGIN:VTIMEZONE
TZID:America/New_York
BEGIN:DAYLIGHT
TZOFFSETFROM:-0500
TZOFFSETTO:-0400
TZNAME:EDT
DTSTART:20220313T070000
END:DAYLIGHT
BEGIN:STANDARD
TZOFFSETFROM:-0400
TZOFFSETTO:-0500
TZNAME:EST
DTSTART:20221106T060000
END:STANDARD
BEGIN:DAYLIGHT
TZOFFSETFROM:-0500
TZOFFSETTO:-0400
TZNAME:EDT
DTSTART:20230312T070000
END:DAYLIGHT
BEGIN:STANDARD
TZOFFSETFROM:-0400
TZOFFSETTO:-0500
TZNAME:EST
DTSTART:20231105T060000
END:STANDARD
BEGIN:DAYLIGHT
TZOFFSETFROM:-0500
TZOFFSETTO:-0400
TZNAME:EDT
DTSTART:20240310T070000
END:DAYLIGHT
BEGIN:STANDARD
TZOFFSETFROM:-0400
TZOFFSETTO:-0500
TZNAME:EST
DTSTART:20241103T060000
END:STANDARD
END:VTIMEZONE
BEGIN:VEVENT
DTSTART;TZID=America/New_York:20230414T100000
DTEND;TZID=America/New_York:20230414T150000
DTSTAMP:20260420T111822
CREATED:20230411T191911Z
LAST-MODIFIED:20230411T193038Z
UID:13141-1681466400-1681484400@com.miami.edu
SUMMARY:Inaugural Computing Day Featuring Two SoC Alumni
DESCRIPTION:Please join us for the University of Miami’s inaugural Computing Day\, where two School of Communication Interactive Media alumni are set to participate in the event’s panel discussion\, scheduled for 12:30-1:30 p.m. \nComputing Day is a part of a broad initiative to foster interdisciplinary collaboration and innovation in computing. The event convenes corporate and government professionals\, faculty and student scholars\, and other audiences engaged in all facets of computing as we design the future.
URL:https://com.miami.edu/event/inaugural-computing-day-featuring-two-soc-alumni/
LOCATION:Frost Institute for Chemistry and Molecular Science\, 1201 Memorial Dr.\, Coral Gables\, FL\, 33146\, United States
CATEGORIES:All UM Faculty,All UM Staff,All UM Students,Alumni,Doctoral students,Open to all of UM,University of Miami
ATTACH;FMTTYPE=image/jpeg:https://com.miami.edu/wp-content/uploads/2023/04/Computing-Day-LARGE_web.jpg
ORGANIZER;CN="Institute for Data Science and Computing":MAILTO:idsc@miami.edu
END:VEVENT
END:VCALENDAR