BEGIN:VCALENDAR
VERSION:2.0
PRODID:-//UM School of Communication - ECPv6.15.20//NONSGML v1.0//EN
CALSCALE:GREGORIAN
METHOD:PUBLISH
X-WR-CALNAME:UM School of Communication
X-ORIGINAL-URL:https://com.miami.edu
X-WR-CALDESC:Events for UM School of Communication
REFRESH-INTERVAL;VALUE=DURATION:PT1H
X-Robots-Tag:noindex
X-PUBLISHED-TTL:PT1H
BEGIN:VTIMEZONE
TZID:America/New_York
BEGIN:DAYLIGHT
TZOFFSETFROM:-0500
TZOFFSETTO:-0400
TZNAME:EDT
DTSTART:20220313T070000
END:DAYLIGHT
BEGIN:STANDARD
TZOFFSETFROM:-0400
TZOFFSETTO:-0500
TZNAME:EST
DTSTART:20221106T060000
END:STANDARD
BEGIN:DAYLIGHT
TZOFFSETFROM:-0500
TZOFFSETTO:-0400
TZNAME:EDT
DTSTART:20230312T070000
END:DAYLIGHT
BEGIN:STANDARD
TZOFFSETFROM:-0400
TZOFFSETTO:-0500
TZNAME:EST
DTSTART:20231105T060000
END:STANDARD
BEGIN:DAYLIGHT
TZOFFSETFROM:-0500
TZOFFSETTO:-0400
TZNAME:EDT
DTSTART:20240310T070000
END:DAYLIGHT
BEGIN:STANDARD
TZOFFSETFROM:-0400
TZOFFSETTO:-0500
TZNAME:EST
DTSTART:20241103T060000
END:STANDARD
END:VTIMEZONE
BEGIN:VEVENT
DTSTART;TZID=America/New_York:20230204T140000
DTEND;TZID=America/New_York:20230204T163000
DTSTAMP:20260420T111820
CREATED:20230131T171033Z
LAST-MODIFIED:20230131T171033Z
UID:12638-1675519200-1675528200@com.miami.edu
SUMMARY:Global Frontiers Screening Series: 'A Life On Our Planet'
DESCRIPTION:Join us for our third installment in a new breakthrough monthly film series at the Cosford Cinema focusing on current world issues such as migration and social inclusion\, peace and security\, aging populations\, democracy\, climate change\, and artificial intelligence. \nEach screening will be preceded by a wide-ranging\, multi-media conversation between Bill Cosford Cinema manager Rene Rodriguez and a special guest. \nThe series continues on Saturday\, Feb. 4\, at 2 p.m.\, with “David Attenborough: A Life on Our Planet” (2020)\, a visually stunning but terrifying documentary about the crises that threaten the survival of Earth: deforestation\, global warming\, pollution\, and other issues plaguing our planet. \nThe 97-year-old Sir David Frederick Attenborough\, brother of the Oscar-winning director Richard Attenborough\, has devoted much of his adult life exploring the natural wonders of our planet and advocating for ecological causes such as reducing meat consumption and switching to renewable energy. \nHe has earned 32 honorary degrees from British universities. At least 20 species of plants and arthropods are named after him. In 2022\, he was recognized as a Champion of the Earth by the United Nations Environment Program. \nThe screening will be preceded by a 20-minute discussion between Rodriguez and Jennifer Jacquet\, visiting professor of global climate change at the University of Miami. The conversation will focus on anthropogenic climate change\, its accompanying psychological barriers and the need for social approval in generating cooperation. The discussion will include clips from other movies exploring similar subject matter. \nAdmission is free but registration is required at link.
URL:https://com.miami.edu/event/global-frontiers-screening-series-a-life-on-our-planet/
LOCATION:Bill Cosford Cinema\, 5030 Brunson Drive\, Dooly Memorial 225\, Coral Gables\, FL\, 33146\, United States
CATEGORIES:Open to the public
ATTACH;FMTTYPE=image/jpeg:https://com.miami.edu/wp-content/uploads/2023/01/Global-Frontiers-screening_web.jpg
ORGANIZER;CN="Rene Rodriguez":MAILTO:renerodriguez@miami.edu
END:VEVENT
END:VCALENDAR