BEGIN:VCALENDAR
VERSION:2.0
PRODID:-//UM School of Communication - ECPv6.15.20//NONSGML v1.0//EN
CALSCALE:GREGORIAN
METHOD:PUBLISH
X-WR-CALNAME:UM School of Communication
X-ORIGINAL-URL:https://com.miami.edu
X-WR-CALDESC:Events for UM School of Communication
REFRESH-INTERVAL;VALUE=DURATION:PT1H
X-Robots-Tag:noindex
X-PUBLISHED-TTL:PT1H
BEGIN:VTIMEZONE
TZID:America/New_York
BEGIN:DAYLIGHT
TZOFFSETFROM:-0500
TZOFFSETTO:-0400
TZNAME:EDT
DTSTART:20220313T070000
END:DAYLIGHT
BEGIN:STANDARD
TZOFFSETFROM:-0400
TZOFFSETTO:-0500
TZNAME:EST
DTSTART:20221106T060000
END:STANDARD
BEGIN:DAYLIGHT
TZOFFSETFROM:-0500
TZOFFSETTO:-0400
TZNAME:EDT
DTSTART:20230312T070000
END:DAYLIGHT
BEGIN:STANDARD
TZOFFSETFROM:-0400
TZOFFSETTO:-0500
TZNAME:EST
DTSTART:20231105T060000
END:STANDARD
BEGIN:DAYLIGHT
TZOFFSETFROM:-0500
TZOFFSETTO:-0400
TZNAME:EDT
DTSTART:20240310T070000
END:DAYLIGHT
BEGIN:STANDARD
TZOFFSETFROM:-0400
TZOFFSETTO:-0500
TZNAME:EST
DTSTART:20241103T060000
END:STANDARD
END:VTIMEZONE
BEGIN:VEVENT
DTSTART;TZID=America/New_York:20230202T110000
DTEND;TZID=America/New_York:20230202T123000
DTSTAMP:20260420T191801
CREATED:20230131T175107Z
LAST-MODIFIED:20230131T175204Z
UID:12643-1675335600-1675341000@com.miami.edu
SUMMARY:Basic Blackboard
DESCRIPTION:This Blackboard for Beginners class will help new faculty\, adjuncts\, or anyone who hasn’t used Blackboard previously. It will cover how to set up your gradebook\, how to take attendance\, how to upload your syllabus\, assignments\, and other coursework. Depending on how comfortable the group is\, we’ll move on include setting up tests/quizzes on Blackboard\, how to calculate a grade dropping the lowest grade(s)\, how to create a portal for students to submit their work via Blackboard\, etc. \nJoin Zoom Meeting: https://miami.zoom.us/j/92316586399?pwd=UW1aek5JZmtLd2RySzB2b01hUG9Xdz09 \nMeeting ID: 923 1658 6399 \nPasscode: 912576
URL:https://com.miami.edu/event/basic-blackboard/
LOCATION:Zoom
CATEGORIES:All UM Faculty
ATTACH;FMTTYPE=image/jpeg:https://com.miami.edu/wp-content/uploads/2023/01/blackboard_web-1.jpg
ORGANIZER;CN="Heidi Carr":MAILTO:h.carr@miami.edu
END:VEVENT
BEGIN:VEVENT
DTSTART;TZID=America/New_York:20230202T183000
DTEND;TZID=America/New_York:20230202T193000
DTSTAMP:20260420T191801
CREATED:20230123T154946Z
LAST-MODIFIED:20230123T154946Z
UID:12605-1675362600-1675366200@com.miami.edu
SUMMARY:Media Management Association Meeting
DESCRIPTION:Anthony Santana\, chief marketing officer at Hardcore Advertising\, will share his professional insights into the evolution of social media marketing.
URL:https://com.miami.edu/event/media-management-association-meeting/
LOCATION:Shoma Hall\, CIB 3053\, 5100 Brunson Dr.\, Coral Gables\, 33146\, United States
CATEGORIES:Open to all of UM
ATTACH;FMTTYPE=image/jpeg:https://com.miami.edu/wp-content/uploads/2023/01/mma_flyer_222023_web.jpg
ORGANIZER;CN="Michel Dupagne":MAILTO:dupagnem@miami.edu
END:VEVENT
END:VCALENDAR