BEGIN:VCALENDAR
VERSION:2.0
PRODID:-//UM School of Communication - ECPv6.15.20//NONSGML v1.0//EN
CALSCALE:GREGORIAN
METHOD:PUBLISH
X-WR-CALNAME:UM School of Communication
X-ORIGINAL-URL:https://com.miami.edu
X-WR-CALDESC:Events for UM School of Communication
REFRESH-INTERVAL;VALUE=DURATION:PT1H
X-Robots-Tag:noindex
X-PUBLISHED-TTL:PT1H
BEGIN:VTIMEZONE
TZID:America/New_York
BEGIN:DAYLIGHT
TZOFFSETFROM:-0500
TZOFFSETTO:-0400
TZNAME:EDT
DTSTART:20220313T070000
END:DAYLIGHT
BEGIN:STANDARD
TZOFFSETFROM:-0400
TZOFFSETTO:-0500
TZNAME:EST
DTSTART:20221106T060000
END:STANDARD
BEGIN:DAYLIGHT
TZOFFSETFROM:-0500
TZOFFSETTO:-0400
TZNAME:EDT
DTSTART:20230312T070000
END:DAYLIGHT
BEGIN:STANDARD
TZOFFSETFROM:-0400
TZOFFSETTO:-0500
TZNAME:EST
DTSTART:20231105T060000
END:STANDARD
BEGIN:DAYLIGHT
TZOFFSETFROM:-0500
TZOFFSETTO:-0400
TZNAME:EDT
DTSTART:20240310T070000
END:DAYLIGHT
BEGIN:STANDARD
TZOFFSETFROM:-0400
TZOFFSETTO:-0500
TZNAME:EST
DTSTART:20241103T060000
END:STANDARD
END:VTIMEZONE
BEGIN:VEVENT
DTSTART;TZID=America/New_York:20230201T190000
DTEND;TZID=America/New_York:20230201T213000
DTSTAMP:20260421T085222
CREATED:20230131T161817Z
LAST-MODIFIED:20230131T161817Z
UID:12628-1675278000-1675287000@com.miami.edu
SUMMARY:Hargrove by Eliane Henri
DESCRIPTION:This film chronicles the journey of trumpet legend Roy Hargrove’s last year as he embarks on his final European summer tour while reflecting on his life and the wisdom he wants to impart on young musicians. Screening is followed by panel discussion with filmmaker Eliane Henri. 
URL:https://com.miami.edu/event/hargrove-by-eliane-henri/
LOCATION:Gusman Concert Hall\, 1314 Miller Dr\, Coral Gables\, FL\, 33146\, United States
CATEGORIES:Open to the public
ATTACH;FMTTYPE=image/jpeg:https://com.miami.edu/wp-content/uploads/2023/01/Frost-School-of-Comms-Hargrove-event_web.jpg
ORGANIZER;CN="Terri Francis":MAILTO:terrifrancis@miami.edu
END:VEVENT
END:VCALENDAR