BEGIN:VCALENDAR
VERSION:2.0
PRODID:-//UM School of Communication - ECPv6.15.20//NONSGML v1.0//EN
CALSCALE:GREGORIAN
METHOD:PUBLISH
X-WR-CALNAME:UM School of Communication
X-ORIGINAL-URL:https://com.miami.edu
X-WR-CALDESC:Events for UM School of Communication
REFRESH-INTERVAL;VALUE=DURATION:PT1H
X-Robots-Tag:noindex
X-PUBLISHED-TTL:PT1H
BEGIN:VTIMEZONE
TZID:America/New_York
BEGIN:DAYLIGHT
TZOFFSETFROM:-0500
TZOFFSETTO:-0400
TZNAME:EDT
DTSTART:20210314T070000
END:DAYLIGHT
BEGIN:STANDARD
TZOFFSETFROM:-0400
TZOFFSETTO:-0500
TZNAME:EST
DTSTART:20211107T060000
END:STANDARD
BEGIN:DAYLIGHT
TZOFFSETFROM:-0500
TZOFFSETTO:-0400
TZNAME:EDT
DTSTART:20220313T070000
END:DAYLIGHT
BEGIN:STANDARD
TZOFFSETFROM:-0400
TZOFFSETTO:-0500
TZNAME:EST
DTSTART:20221106T060000
END:STANDARD
BEGIN:DAYLIGHT
TZOFFSETFROM:-0500
TZOFFSETTO:-0400
TZNAME:EDT
DTSTART:20230312T070000
END:DAYLIGHT
BEGIN:STANDARD
TZOFFSETFROM:-0400
TZOFFSETTO:-0500
TZNAME:EST
DTSTART:20231105T060000
END:STANDARD
END:VTIMEZONE
BEGIN:VEVENT
DTSTART;TZID=America/New_York:20221210T170000
DTEND;TZID=America/New_York:20221210T190000
DTSTAMP:20260424T032511
CREATED:20221205T191156Z
LAST-MODIFIED:20221205T191614Z
UID:12418-1670691600-1670698800@com.miami.edu
SUMMARY:Global Frontiers Screening Series: Mariupolis (2016)
DESCRIPTION:Join us for our second installment in a new breakthrough monthly film series at the Cosford Cinema focusing on current world issues such as migration and social inclusion\, peace and security\, aging populations\, democracy\, climate change\, and artificial intelligence. \nThe series is intended to bring two types of audiences together: Movie lovers and people who care about current events. \nEach screening will be preceded by a wide-ranging\, multi-media conversation between Bill Cosford Cinema manager Rene Rodriguez and a special guest. \nThe series continues on Saturday\, Dec. 10\, at 5 p.m. with “Mariupolis” (2016)\, a documentary portrait of Ukrainians going about their daily lives — work\, home\, spending time with their families — while bombs\, death and destruction encroach their city. \nLithuanian documentary filmmaker Mantas Kvedaravicius\, who was killed in April 2022 while trying to leave Mariupol\, shows the city’s then-500\,000 residents\, working for the steel factory and fishing\, for leisure or food\, in between shifts. The orthodox church towers above the city and its newly built bronze domes are sitting next to it\, waiting to be donned. A tent nearby is sheltering a crying icon\, which receives a steady flow of visitors. \nThe screening will be preceded by a 25-minute discussion between Rodriguez and Dina Moulioukova\, lecturer at the University of Miami and co-editor of “Russia and the World in the Putin Era.” The conversation will focus on peace and war\, human stories in embattled countries\, and hyper-realism in cinema. The discussion will include clips from other movies exploring similar subject matter. \nWatch this video for more information\, https://vimeo.com/775806194.
URL:https://com.miami.edu/event/global-frontiers-screening-series-mariupolis-2016/
LOCATION:Bill Cosford Cinema\, 5030 Brunson Drive\, Dooly Memorial 225\, Coral Gables\, FL\, 33146\, United States
CATEGORIES:Open to all of UM,Open to the public
ATTACH;FMTTYPE=image/jpeg:https://com.miami.edu/wp-content/uploads/2022/12/global-frontiers-dec-2022-SecondEvent_Wide-scaled_web.jpg
ORGANIZER;CN="Rene Rodriguez":MAILTO:renerodriguez@miami.edu
END:VEVENT
END:VCALENDAR