BEGIN:VCALENDAR
VERSION:2.0
PRODID:-//UM School of Communication - ECPv6.15.20//NONSGML v1.0//EN
CALSCALE:GREGORIAN
METHOD:PUBLISH
X-WR-CALNAME:UM School of Communication
X-ORIGINAL-URL:https://com.miami.edu
X-WR-CALDESC:Events for UM School of Communication
REFRESH-INTERVAL;VALUE=DURATION:PT1H
X-Robots-Tag:noindex
X-PUBLISHED-TTL:PT1H
BEGIN:VTIMEZONE
TZID:America/New_York
BEGIN:DAYLIGHT
TZOFFSETFROM:-0500
TZOFFSETTO:-0400
TZNAME:EDT
DTSTART:20210314T070000
END:DAYLIGHT
BEGIN:STANDARD
TZOFFSETFROM:-0400
TZOFFSETTO:-0500
TZNAME:EST
DTSTART:20211107T060000
END:STANDARD
BEGIN:DAYLIGHT
TZOFFSETFROM:-0500
TZOFFSETTO:-0400
TZNAME:EDT
DTSTART:20220313T070000
END:DAYLIGHT
BEGIN:STANDARD
TZOFFSETFROM:-0400
TZOFFSETTO:-0500
TZNAME:EST
DTSTART:20221106T060000
END:STANDARD
BEGIN:DAYLIGHT
TZOFFSETFROM:-0500
TZOFFSETTO:-0400
TZNAME:EDT
DTSTART:20230312T070000
END:DAYLIGHT
BEGIN:STANDARD
TZOFFSETFROM:-0400
TZOFFSETTO:-0500
TZNAME:EST
DTSTART:20231105T060000
END:STANDARD
END:VTIMEZONE
BEGIN:VEVENT
DTSTART;TZID=America/New_York:20221203T170000
DTEND;TZID=America/New_York:20221203T190000
DTSTAMP:20260424T002748
CREATED:20221128T165011Z
LAST-MODIFIED:20221128T165054Z
UID:12405-1670086800-1670094000@com.miami.edu
SUMMARY:Watching Movies with Nadege Green: FRIDAY (1995)
DESCRIPTION:Join Nadege Green and Bill Cosford Cinema manager Rene Rodriguez for a *free* screening and discussion of the 1995 comedy “Friday.” \nNadege Green is a writer\, researcher\, and audio producer. She is the founder and leader of Black Miami-Dade\, an emerging online digital platform that resists the erasure of Miami-Dade’s Black past. She is also the editor of the final installment in “The Miami Trilogy\,” a three-book project exploring contemporary Miami. This final edition will center on community narratives around gun violence in Miami-Dade including essays\, poems\, photos\, and illustrations by local residents. She is also a contributor to NPR/WLRN radio. \nFRIDAY (1995) | DIRECTOR: F. Gary Gray. | RUNNING TIME: 1 HR 31 MIN | RATED R for pervasive language\, drug use\, and a brutal fight. \nIt is Friday and Craig Jones (Ice Cube\, in his first comedic role) is unemployed\, having been fired the previous day. This leads to trouble with Smokey’s (Chris Tucker’s) supplier\, Big Worm (Faizon Love)\, who now wants his money\, or his product back\, or Smokey is a dead man. Then there’s Deebo (Tommy “Tiny” Lister\, Jr.)\, the local bully\, plus Craig’s jealous\, psychotic girlfriend\, Joi (Paula Jai Parker)\, and Debbie (Nia Long)\, the neighbor Craig has a crush on. A lot can happen while lounging around your house on a Friday. \n“It’s just a typical summer day on a residential street: Kids are playing\, lawns are being watered\, there’s a lot going on but not much happening. And that’s exactly the point: co-screenwriters Ice Cube\, DJ Pooh\, and director F. Gary Gray find as much humor in well-observed detail as in the oddities of the film’s world. \n“There are slapstick gags\, bathroom humor (both figuratively and literally)\, a lot of jokes about hairstyles\, and sight gags based on ridiculous juxtapositions\, like the huge Deebo riding a little bike. All the inaction is set to a terrific\, evocative soundtrack that mixes 1960s soul and Motown classics\, Rose Royce’s “I Wanna Get Next to You” from CAR WASH\, rap from Cypress Hill and Cube\, and Dr. Dre’s hit “Keep Their Heads Ringin’.” — TV GUIDE. \nAdmission is free\, but registration is required via this link\, https://events.miami.edu/event/watching_movies_with_nadege_green_friday.
URL:https://com.miami.edu/event/watching-movies-with-nadege-green-friday-1995/
LOCATION:Bill Cosford Cinema\, 5030 Brunson Drive\, Dooly Memorial 225\, Coral Gables\, FL\, 33146\, United States
CATEGORIES:Alumni,Open to all of UM,Open to the public
ATTACH;FMTTYPE=image/jpeg:https://com.miami.edu/wp-content/uploads/2022/11/Watching-Movies-with-Nadege-Green-FRIDAY-1995.jpg
ORGANIZER;CN="Rene Rodriguez":MAILTO:renerodriguez@miami.edu
END:VEVENT
END:VCALENDAR