BEGIN:VCALENDAR
VERSION:2.0
PRODID:-//UM School of Communication - ECPv6.15.20//NONSGML v1.0//EN
CALSCALE:GREGORIAN
METHOD:PUBLISH
X-WR-CALNAME:UM School of Communication
X-ORIGINAL-URL:https://com.miami.edu
X-WR-CALDESC:Events for UM School of Communication
REFRESH-INTERVAL;VALUE=DURATION:PT1H
X-Robots-Tag:noindex
X-PUBLISHED-TTL:PT1H
BEGIN:VTIMEZONE
TZID:America/New_York
BEGIN:DAYLIGHT
TZOFFSETFROM:-0500
TZOFFSETTO:-0400
TZNAME:EDT
DTSTART:20210314T070000
END:DAYLIGHT
BEGIN:STANDARD
TZOFFSETFROM:-0400
TZOFFSETTO:-0500
TZNAME:EST
DTSTART:20211107T060000
END:STANDARD
BEGIN:DAYLIGHT
TZOFFSETFROM:-0500
TZOFFSETTO:-0400
TZNAME:EDT
DTSTART:20220313T070000
END:DAYLIGHT
BEGIN:STANDARD
TZOFFSETFROM:-0400
TZOFFSETTO:-0500
TZNAME:EST
DTSTART:20221106T060000
END:STANDARD
BEGIN:DAYLIGHT
TZOFFSETFROM:-0500
TZOFFSETTO:-0400
TZNAME:EDT
DTSTART:20230312T070000
END:DAYLIGHT
BEGIN:STANDARD
TZOFFSETFROM:-0400
TZOFFSETTO:-0500
TZNAME:EST
DTSTART:20231105T060000
END:STANDARD
END:VTIMEZONE
BEGIN:VEVENT
DTSTART;TZID=America/New_York:20221001T170000
DTEND;TZID=America/New_York:20221001T193000
DTSTAMP:20260422T003146
CREATED:20220926T150159Z
LAST-MODIFIED:20220926T150159Z
UID:12067-1664643600-1664652600@com.miami.edu
SUMMARY:Watching Movies with: Phil Lord
DESCRIPTION:Join Phil Lord and Bill Cosford Cinema manager Rene Rodriguez for a screening and discussion of the dark comedy “Harold and Maude.” \nPhil Lord is a Miami native who began his film career with “Cloudy with a Chance of Meatballs\,” co-directed by his creative partner Christopher Miller. Since then\, the duo directed “21 Jump Street” (2012)\, “The Lego Movie” (2014)\, “22 Jump Street” (2014) and shared the Best Animated Feature Oscar for co-producing “Spider-Man: Into the Spider-Verse” (2018). He also produced the Oscar-nominated “The Mitchells vs the Machines” and wrote and produced TV shows such as “Brooklyn 911\,” “The Last Man on Earth\,” “Bless the Harts” and “The Afterparty\,” among many others. \nHAROLD AND MAUDE (1971) | DIRECTED BY HAL ASHBY | RUNNING TIME: 91 MINUTES | RATED PG for mild language and adult themes. \nBud Court stars as a rich young man who is obsessed with committing suicide until he meets a lively septuagenarian Holocaust survivor (Ruth Gordon) at a funeral. Critically scorned upon its original release\, the movie is now considered one of the best American films of the 1970s and is a beloved cult classic. “Harold and Maude” was shocking by the standards of 1971 Hollywood movies\, even the ones that styled themselves as adventurous or hip. But it is so ideologically and emotionally consistent\, and weaves such a gentle spell\, that we can accept the central romance as a metaphor for beleaguered political and social sentiments even as we get to know Harold and Maude as individuals and root for their happiness. It’s a romance\, a tragedy\, a satire\, a paean to eccentricity\, a philosophical statement\, and a “trip” film whose music montages seem to roll in like waves. \nTickets are $10 plus tax to the general public\, free for UM students with Cane Card (use UMSTUDENT) at checkout.
URL:https://com.miami.edu/event/watching-movies-with-phil-lord/
LOCATION:Bill Cosford Cinema\, 5030 Brunson Drive\, Dooly Memorial 225\, Coral Gables\, FL\, 33146\, United States
CATEGORIES:Open to the public
ATTACH;FMTTYPE=image/jpeg:https://com.miami.edu/wp-content/uploads/2022/09/Watching-Movies-With-Phil-Lord_WEB.jpg
ORGANIZER;CN="Rene Rodriguez":MAILTO:renerodriguez@miami.edu
END:VEVENT
END:VCALENDAR