BEGIN:VCALENDAR
VERSION:2.0
PRODID:-//UM School of Communication - ECPv6.15.20//NONSGML v1.0//EN
CALSCALE:GREGORIAN
METHOD:PUBLISH
X-WR-CALNAME:UM School of Communication
X-ORIGINAL-URL:https://com.miami.edu
X-WR-CALDESC:Events for UM School of Communication
REFRESH-INTERVAL;VALUE=DURATION:PT1H
X-Robots-Tag:noindex
X-PUBLISHED-TTL:PT1H
BEGIN:VTIMEZONE
TZID:UTC
BEGIN:STANDARD
TZOFFSETFROM:+0000
TZOFFSETTO:+0000
TZNAME:UTC
DTSTART:20210101T000000
END:STANDARD
END:VTIMEZONE
BEGIN:VEVENT
DTSTART;TZID=UTC:20220428T190000
DTEND;TZID=UTC:20220428T210000
DTSTAMP:20260422T031924
CREATED:20220401T151753Z
LAST-MODIFIED:20220401T151753Z
UID:11385-1651172400-1651179600@com.miami.edu
SUMMARY:'Kafou' film screening with filmmakers in attendance
DESCRIPTION:Join director Bruno Mourral and producer Gilbert Mirambeau as they talk about the making of their made-in-Haiti film and explore the dangers filmmakers must navigate while shooting their movies in that country.
URL:https://com.miami.edu/event/kafou-film-screening-with-filmmakers-in-attendance/
LOCATION:Bill Cosford Cinema\, 5030 Brunson Drive\, Dooly Memorial 225\, Coral Gables\, FL\, 33146\, United States
ATTACH;FMTTYPE=image/png:https://com.miami.edu/wp-content/uploads/2022/04/Kafou-event.png
END:VEVENT
END:VCALENDAR