BEGIN:VCALENDAR
VERSION:2.0
PRODID:-//UM School of Communication - ECPv6.15.20//NONSGML v1.0//EN
CALSCALE:GREGORIAN
METHOD:PUBLISH
X-WR-CALNAME:UM School of Communication
X-ORIGINAL-URL:https://com.miami.edu
X-WR-CALDESC:Events for UM School of Communication
REFRESH-INTERVAL;VALUE=DURATION:PT1H
X-Robots-Tag:noindex
X-PUBLISHED-TTL:PT1H
BEGIN:VTIMEZONE
TZID:UTC
BEGIN:STANDARD
TZOFFSETFROM:+0000
TZOFFSETTO:+0000
TZNAME:UTC
DTSTART:20210101T000000
END:STANDARD
END:VTIMEZONE
BEGIN:VEVENT
DTSTART;TZID=UTC:20220421T163000
DTEND;TZID=UTC:20220421T180000
DTSTAMP:20260421T095343
CREATED:20220406T141106Z
LAST-MODIFIED:20220406T141106Z
UID:11410-1650558600-1650564000@com.miami.edu
SUMMARY:Student Workshop with Alexis Alleyne-Caputo
DESCRIPTION:In a dynamic 90-minute in-person workshop considering expressive culture\, signs and symbolic meanings in the U.S.\, and the mythologizing and romanticizing of concepts\, artifacts\, experiences\, Alexis Alleyne-Caputo will lead students through discussion\, reflection\, and writing exercises\, with experimental performance/interpretation by Harmony Jackson. Limited seating available for student participants.
URL:https://com.miami.edu/event/student-workshop-with-alexis-alleyne-caputo/
LOCATION:Whitten LC 120
ATTACH;FMTTYPE=image/png:https://com.miami.edu/wp-content/uploads/2022/04/Alexis-Alleyne-Caputo.png
END:VEVENT
END:VCALENDAR