BEGIN:VCALENDAR
VERSION:2.0
PRODID:-//UM School of Communication - ECPv6.15.20//NONSGML v1.0//EN
CALSCALE:GREGORIAN
METHOD:PUBLISH
X-WR-CALNAME:UM School of Communication
X-ORIGINAL-URL:https://com.miami.edu
X-WR-CALDESC:Events for UM School of Communication
REFRESH-INTERVAL;VALUE=DURATION:PT1H
X-Robots-Tag:noindex
X-PUBLISHED-TTL:PT1H
BEGIN:VTIMEZONE
TZID:UTC
BEGIN:STANDARD
TZOFFSETFROM:+0000
TZOFFSETTO:+0000
TZNAME:UTC
DTSTART:20210101T000000
END:STANDARD
END:VTIMEZONE
BEGIN:VEVENT
DTSTART;TZID=UTC:20220415T190000
DTEND;TZID=UTC:20220415T210000
DTSTAMP:20260421T232723
CREATED:20220401T151422Z
LAST-MODIFIED:20220401T151422Z
UID:11379-1650049200-1650056400@com.miami.edu
SUMMARY:The 'Ludi' Film Tour
DESCRIPTION:Screening of “Ludi\,” a made-in-Miami movie about 24 hours in the life of a nurse living in Little Haiti and struggling to make ends meet.
URL:https://com.miami.edu/event/the-ludi-film-tour/
LOCATION:Bill Cosford Cinema\, 5030 Brunson Drive\, Dooly Memorial 225\, Coral Gables\, FL\, 33146\, United States
ATTACH;FMTTYPE=image/png:https://com.miami.edu/wp-content/uploads/2022/04/ludi-film-tour.png
END:VEVENT
END:VCALENDAR