BEGIN:VCALENDAR
VERSION:2.0
PRODID:-//UM School of Communication - ECPv6.15.20//NONSGML v1.0//EN
CALSCALE:GREGORIAN
METHOD:PUBLISH
X-WR-CALNAME:UM School of Communication
X-ORIGINAL-URL:https://com.miami.edu
X-WR-CALDESC:Events for UM School of Communication
REFRESH-INTERVAL;VALUE=DURATION:PT1H
X-Robots-Tag:noindex
X-PUBLISHED-TTL:PT1H
BEGIN:VTIMEZONE
TZID:UTC
BEGIN:STANDARD
TZOFFSETFROM:+0000
TZOFFSETTO:+0000
TZNAME:UTC
DTSTART:20210101T000000
END:STANDARD
END:VTIMEZONE
BEGIN:VEVENT
DTSTART;TZID=UTC:20220407T160000
DTEND;TZID=UTC:20220407T170000
DTSTAMP:20260421T224619
CREATED:20220406T140355Z
LAST-MODIFIED:20220406T140355Z
UID:11402-1649347200-1649350800@com.miami.edu
SUMMARY:Data Citizens: A Distinguished Lecture Series presents Hillary Leone and Daniel Bor
DESCRIPTION:Join us for another “Data Citizens: A Distinguished Lecture Series” talk featuring multidisciplinary artist Hillary Leone in a conversation with University of Cambridge neuroscientist Daniel Bor that will explore how they are using data to animate art and advance science. \nThis lecture is sponsored by the UM Department of Interactive Media and the Ribeiro Innovation Fund Speaker Series\, and is free and open to the public.
URL:https://com.miami.edu/event/data-citizens-a-distinguished-lecture-series-presents-hillary-leone-and-daniel-bor/
LOCATION:Zoom
ATTACH;FMTTYPE=image/png:https://com.miami.edu/wp-content/uploads/2022/03/SoC-Generic-Event-Image.png
END:VEVENT
END:VCALENDAR