BEGIN:VCALENDAR
VERSION:2.0
PRODID:-//UM School of Communication - ECPv6.15.20//NONSGML v1.0//EN
CALSCALE:GREGORIAN
METHOD:PUBLISH
X-WR-CALNAME:UM School of Communication
X-ORIGINAL-URL:https://com.miami.edu
X-WR-CALDESC:Events for UM School of Communication
REFRESH-INTERVAL;VALUE=DURATION:PT1H
X-Robots-Tag:noindex
X-PUBLISHED-TTL:PT1H
BEGIN:VTIMEZONE
TZID:UTC
BEGIN:STANDARD
TZOFFSETFROM:+0000
TZOFFSETTO:+0000
TZNAME:UTC
DTSTART:20210101T000000
END:STANDARD
END:VTIMEZONE
BEGIN:VEVENT
DTSTART;TZID=UTC:20220406T130000
DTEND;TZID=UTC:20220406T140000
DTSTAMP:20260421T193247
CREATED:20220328T154318Z
LAST-MODIFIED:20220328T154318Z
UID:11360-1649250000-1649253600@com.miami.edu
SUMMARY:Ad Group presents Aaron Draplin
DESCRIPTION:Aaron Draplin\, the founder of Draplin Design Company (based in Portland\, Oregon)\, is well known for his design\, logo\, and identity work—Draplin Design’s list of clients includes Nike\, Wired\, Incase\, Burton Snowboards\, Patagonia\, Target\, Woolrich\, and even the Obama administration.\n\n\n\n\n\n\n\nZoom meeting code: 202-102-3000
URL:https://com.miami.edu/event/ad-group-presents-aaron-draplin/
LOCATION:Zoom
ATTACH;FMTTYPE=image/png:https://com.miami.edu/wp-content/uploads/2022/03/SoC-Generic-Event-Image.png
END:VEVENT
BEGIN:VEVENT
DTSTART;TZID=UTC:20220406T163000
DTEND;TZID=UTC:20220406T183000
DTSTAMP:20260421T193247
CREATED:20220324T134940Z
LAST-MODIFIED:20220324T134940Z
UID:11316-1649262600-1649269800@com.miami.edu
SUMMARY:Communication\, Media & Entertainment Fair
DESCRIPTION:The School of Communication’s annual networking event during which students get the opportunity to meet employer partners who are looking to hire UM talent. There will be 20-30 companies in attendance plus refreshments in the Courtyard. All students looking for an internship or job should register to attend this special event!
URL:https://com.miami.edu/event/communication-media-entertainment-fair/
LOCATION:School of Communication Courtyard\, 5100 Brunson Dr.\, Coral Gables\, FL\, 33146\, United States
ATTACH;FMTTYPE=image/png:https://com.miami.edu/wp-content/uploads/2022/03/communication-media-ent-fair.png
END:VEVENT
END:VCALENDAR