BEGIN:VCALENDAR
VERSION:2.0
PRODID:-//UM School of Communication - ECPv6.15.20//NONSGML v1.0//EN
CALSCALE:GREGORIAN
METHOD:PUBLISH
X-WR-CALNAME:UM School of Communication
X-ORIGINAL-URL:https://com.miami.edu
X-WR-CALDESC:Events for UM School of Communication
REFRESH-INTERVAL;VALUE=DURATION:PT1H
X-Robots-Tag:noindex
X-PUBLISHED-TTL:PT1H
BEGIN:VTIMEZONE
TZID:UTC
BEGIN:STANDARD
TZOFFSETFROM:+0000
TZOFFSETTO:+0000
TZNAME:UTC
DTSTART:20210101T000000
END:STANDARD
END:VTIMEZONE
BEGIN:VEVENT
DTSTART;TZID=UTC:20220404T120000
DTEND;TZID=UTC:20220404T120000
DTSTAMP:20260421T122908
CREATED:20220322T161522Z
LAST-MODIFIED:20220322T161522Z
UID:11313-1649073600-1649073600@com.miami.edu
SUMMARY:UM SoC Graduate Programs Virtual Info Session
DESCRIPTION:A virtual Information Session on University of Miami’s School of Communication Graduate Programs will be held on Monday\, April 4 @ Noon.\n\nJoin us to learn more about our PhD\, MFA\, MA\, MS\, and Certificate programs.
URL:https://com.miami.edu/event/um-soc-graduate-programs-virtual-info-session/
LOCATION:FL
ATTACH;FMTTYPE=image/png:https://com.miami.edu/wp-content/uploads/2022/03/SoC-Generic-Event-Image.png
END:VEVENT
END:VCALENDAR