BEGIN:VCALENDAR
VERSION:2.0
PRODID:-//UM School of Communication - ECPv6.15.20//NONSGML v1.0//EN
CALSCALE:GREGORIAN
METHOD:PUBLISH
X-WR-CALNAME:UM School of Communication
X-ORIGINAL-URL:https://com.miami.edu
X-WR-CALDESC:Events for UM School of Communication
REFRESH-INTERVAL;VALUE=DURATION:PT1H
X-Robots-Tag:noindex
X-PUBLISHED-TTL:PT1H
BEGIN:VTIMEZONE
TZID:UTC
BEGIN:STANDARD
TZOFFSETFROM:+0000
TZOFFSETTO:+0000
TZNAME:UTC
DTSTART:20210101T000000
END:STANDARD
END:VTIMEZONE
BEGIN:VEVENT
DTSTART;TZID=UTC:20220402T170000
DTEND;TZID=UTC:20220402T200000
DTSTAMP:20260424T062046
CREATED:20220328T153655Z
LAST-MODIFIED:20220328T153655Z
UID:11352-1648918800-1648929600@com.miami.edu
SUMMARY:Watching Movies with Dave Barry
DESCRIPTION:Join Pulitzer Prize-winning author and humorist Dave Barry as he introduces Barry Levinson’s 1982 coming-of-age drama “Diner” and participates in a Q&A with the audience. The event is part of the Cosford Cinema’s monthly “Watching Movies With” series.
URL:https://com.miami.edu/event/watching-movies-with-dave-barry/
LOCATION:Bill Cosford Cinema\, 5030 Brunson Drive\, Dooly Memorial 225\, Coral Gables\, FL\, 33146\, United States
ATTACH;FMTTYPE=image/png:https://com.miami.edu/wp-content/uploads/2022/03/dave-barry-event.png
END:VEVENT
END:VCALENDAR