BEGIN:VCALENDAR
VERSION:2.0
PRODID:-//UM School of Communication - ECPv6.15.20//NONSGML v1.0//EN
CALSCALE:GREGORIAN
METHOD:PUBLISH
X-WR-CALNAME:UM School of Communication
X-ORIGINAL-URL:https://com.miami.edu
X-WR-CALDESC:Events for UM School of Communication
REFRESH-INTERVAL;VALUE=DURATION:PT1H
X-Robots-Tag:noindex
X-PUBLISHED-TTL:PT1H
BEGIN:VTIMEZONE
TZID:UTC
BEGIN:STANDARD
TZOFFSETFROM:+0000
TZOFFSETTO:+0000
TZNAME:UTC
DTSTART:20210101T000000
END:STANDARD
END:VTIMEZONE
BEGIN:VEVENT
DTSTART;TZID=UTC:20220319T170000
DTEND;TZID=UTC:20220319T200000
DTSTAMP:20260423T224923
CREATED:20220311T151105Z
LAST-MODIFIED:20220311T151105Z
UID:11297-1647709200-1647720000@com.miami.edu
SUMMARY:Watching Movies With: Jacqueline Charles
DESCRIPTION:Join Miami Herald staff writer Jacqueline Charles and Cosford Cinema manager Rene Rodriguez for a screening and discussion of George Tillman Jr’s SOUL FOOD (1997). \nJACQUELINE CHARLES has reported on Haiti and the English-speaking Caribbean for the Miami Herald for over a decade. A Pulitzer Prize finalist for her coverage of the 2010 Haiti earthquake\, she was awarded a 2018 Maria Moors Cabot Prize — the most prestigious award for coverage of the Americas.
URL:https://com.miami.edu/event/watching-movies-with-jacqueline-charles/
LOCATION:Bill Cosford Cinema\, 5030 Brunson Drive\, Dooly Memorial 225\, Coral Gables\, FL\, 33146\, United States
ATTACH;FMTTYPE=image/png:https://com.miami.edu/wp-content/uploads/2022/03/Jacqueline-Charles-Event.png
END:VEVENT
END:VCALENDAR