BEGIN:VCALENDAR
VERSION:2.0
PRODID:-//UM School of Communication - ECPv6.15.20//NONSGML v1.0//EN
CALSCALE:GREGORIAN
METHOD:PUBLISH
X-WR-CALNAME:UM School of Communication
X-ORIGINAL-URL:https://com.miami.edu
X-WR-CALDESC:Events for UM School of Communication
REFRESH-INTERVAL;VALUE=DURATION:PT1H
X-Robots-Tag:noindex
X-PUBLISHED-TTL:PT1H
BEGIN:VTIMEZONE
TZID:UTC
BEGIN:STANDARD
TZOFFSETFROM:+0000
TZOFFSETTO:+0000
TZNAME:UTC
DTSTART:20210101T000000
END:STANDARD
END:VTIMEZONE
BEGIN:VEVENT
DTSTART;TZID=UTC:20220224T164000
DTEND;TZID=UTC:20220224T173500
DTSTAMP:20260420T191943
CREATED:20220223T182107Z
LAST-MODIFIED:20220228T141813Z
UID:11207-1645720800-1645724100@com.miami.edu
SUMMARY:The Olympics\, FIFA and Media Relations
DESCRIPTION:Saint-Clair Milesi is a strategic communications consultant based in Paris since 2015. He graduated in journalism/PR from Arizona State and has an MBA in Sports Administration. As a journalist\, he edited Rio de Janeiro’s leading online source of news O Globo\, leaving to become a media advisor to the U.S. State Department in Brazil\, in 2006. Later\, in 2008\, he joined the adventure to bring the Olympic Games for a first time to South America handling communication for Rio 2016 winning bid. Saint-Clair then became the Communications Director of the 2014 FIFA World Cup organizing committee. Between 2010 and 2014 he helped implement an international promotion strategy achieving records in volunteer enrollment\, ticket sales and tournament awareness. This period forged his experience dealing with complex agendas and stakeholders as there was a permanent challenging environment between FIFA\, the media and the governments in Brazil. \nIn France\, he became Communications Director of the Paris bid committee to host the 2024 Olympic and Paralympic Games. After another successful campaign ending in 2017\, Saint-Clair became a consultant\, creating Share4Sport. He has since been working with clients such as Le Coq Sportif\, Val d’Oise and the International Olympic Committee\, which he advises on communication and engagement strategies for candidate cities. \nSaint-Clair is also a visiting lecturer for the Centre International d’Etude du Sport (CIES) since 2011. He is Italian-Brazilian\, speaks five languages and is passionate about history and football.
URL:https://com.miami.edu/event/the-olympics-fifa-and-media-relations/
LOCATION:CIB 2055
ATTACH;FMTTYPE=image/png:https://com.miami.edu/wp-content/uploads/2022/02/Event-Post-Image-Size.png
END:VEVENT
END:VCALENDAR