BEGIN:VCALENDAR
VERSION:2.0
PRODID:-//UM School of Communication - ECPv6.15.20//NONSGML v1.0//EN
CALSCALE:GREGORIAN
METHOD:PUBLISH
X-WR-CALNAME:UM School of Communication
X-ORIGINAL-URL:https://com.miami.edu
X-WR-CALDESC:Events for UM School of Communication
REFRESH-INTERVAL;VALUE=DURATION:PT1H
X-Robots-Tag:noindex
X-PUBLISHED-TTL:PT1H
BEGIN:VTIMEZONE
TZID:America/New_York
BEGIN:DAYLIGHT
TZOFFSETFROM:-0500
TZOFFSETTO:-0400
TZNAME:EDT
DTSTART:20200308T070000
END:DAYLIGHT
BEGIN:STANDARD
TZOFFSETFROM:-0400
TZOFFSETTO:-0500
TZNAME:EST
DTSTART:20201101T060000
END:STANDARD
BEGIN:DAYLIGHT
TZOFFSETFROM:-0500
TZOFFSETTO:-0400
TZNAME:EDT
DTSTART:20210314T070000
END:DAYLIGHT
BEGIN:STANDARD
TZOFFSETFROM:-0400
TZOFFSETTO:-0500
TZNAME:EST
DTSTART:20211107T060000
END:STANDARD
BEGIN:DAYLIGHT
TZOFFSETFROM:-0500
TZOFFSETTO:-0400
TZNAME:EDT
DTSTART:20220313T070000
END:DAYLIGHT
BEGIN:STANDARD
TZOFFSETFROM:-0400
TZOFFSETTO:-0500
TZNAME:EST
DTSTART:20221106T060000
END:STANDARD
END:VTIMEZONE
BEGIN:VEVENT
DTSTART;TZID=America/New_York:20210225T190000
DTEND;TZID=America/New_York:20210225T200000
DTSTAMP:20260421T200411
CREATED:20210216T143054Z
LAST-MODIFIED:20210216T143054Z
UID:9865-1614279600-1614283200@com.miami.edu
SUMMARY:Q & A with the filmmaker of RADIUM GIRLS
DESCRIPTION:Register to view RADIUM GIRLS between now and February 25 at https://bit.ly/3rHtZ0Y \nThen join us for February 25\, 7:00 – 8:00pm for a Q & A with the filmmaker via Zoom. \nRADIUM GIRLS (2018\, 103 minutes) \nA historical drama based on actual events\, RADIUM GIRLS tells the story of two sisters employed at American Radium\, a New Jersey factory where they paint glow-in-the-dark watch dials. When Josephine (Abby Quinn) mysteriously falls ill\, older sister Bessie (Joey King) uncovers the unknown truth about radium: it’s a deadly poison. Bessie becomes determined to bring the horrors of radium poisoning to light and take down American Radium​\, a​s she fights not only for her sister\, but also for the rest of the women around her. \nLYDIA DEAN PILCHER \nLydia Dean Pilcher is a two-time Emmy winner and Academy Award nominee who has produced over thirty-five films\, including The Darjeeling Limited (Wes Anderson)\, Jesus’ Son (Alison Maclean)\, and eleven films with director Mira Nair\, including The Namesake\, Vanity Fair\, Amelia\, Mississippi Masala. Most recently she produced Queen of Katwe (for The Walt Disney Company) and HBO Films’ The Immortal Life of Henrietta Lacks (starring Oprah Winfrey and Rose Byrne) and directed the WWII female spy thriller A Call to Spy (IFC Films). \nPresented by the School of Communication. Co-Sponsored by the Gender and Sexuality Studies Program\, the Environment\, Culture\, & Media Program\, and the Abess Center for Ecosystem Science and Policy. \nEvent Details\nWhat:    Radium Girls post-screening ​Q & A\nWhen:   Thursday\, February 25\, 2021\, 7:00pm – 8:00pm\nWhere:  Zoom\nWho:     Lydia Dean Pilcher\, Co-Director/Co-Producer Radium Girls\nSign up at: https://bit.ly/3rHtZ0Y \n  \nThis event is free and open to the UM community. If you would like to join us for this event\, please register https://bit.ly/3rHtZ0Y. Feel free to invite those you think might be interested. If you have any questions\, contact Joselyn Garcia at joselyn@miami.edu or at (305) 284-6902.\nHow to watch the films \nWatch Radium Girls anytime between now and the Q & A event on February 25 at 7PM EST\, at ScreeningRoom. You will receive an e-mail invitation to join a ScreeningRoom group. You can either click on the email invite or just go to ScreeningRoom directly and create a FREE ScreeningRoom account. It’s simple and takes less than a minute. (ScreeningRoom\, has a very strict privacy policy\, so there is no data mining or advertising ever!) \nPlease go here to sign up for ScreeningRoom: https://www.screeningroom.org/users/signup \nWe recommend creating your account now in order to begin accessing the films now. The films will be available until February 25th. \n**It is important that you sign up to ScreeningRoom with the same email you signed up with on Eventbrite. This will be the email that is used to invite you to view the screening itself. When you sign up you will need to confirm your email. (If you don’t get a confirmation email\, please check your junk mail or clutter folders). If you need help\, please email: joselyn@miami.edu. \nOnce you have created an account and are logged in\, you will be invited to join the group Radium Girls where the films will be available through February 25th.
URL:https://com.miami.edu/event/q-a-with-the-filmmaker-of-radium-girls/
LOCATION:Zoom
ATTACH;FMTTYPE=image/png:https://com.miami.edu/wp-content/uploads/2021/02/radium.png
ORGANIZER;CN="University of Miami School of Communication":MAILTO:communication@miami.edu
END:VEVENT
END:VCALENDAR